Workbook

Sheet MÜFREDAT-PÇ
A1: Temel Bilim BİLİM: Anatomi, fizyoloji, biyokimya, farmakoloji, patoloji ve mikrobiyoloji gibi dersler kapsamında, hemşirelik uygulamalarının bilimsel Temel Bilimini oluşturan insan vücudunun yapısı, işleyişi ve hastalık mekanizmaları hakkında teorik bilgi ve kavrayış geliştirilir. MESLEK: Mesleki dersler, hemşirelerin mesleki rol ve sorumlulukları kapsamında uygulamaya dönük bilgi, beceri ve tutumları kazandıran derslerdir. Bu dersler klinik ve pratik uygulamaya doğrudan ilişkilidir. DİĞER: Diğer dersler, hemşirelerin Diğer kültür, kişisel ve sosyal yetkinlikleri geliştirecek, ancak doğrudan mesleki uygulaması olmayan derslerdir. Bu kategori tıp tarihi, İnsan hakları, istatistik, bilgisayar kullanımı, yabancı dil ve benzeri konuları kapsar. | L1: PROGRAM ÇIKTILARI
A4: Ders Kodu | B4: Ders Adı | C4: T | D4: U | E4: K | F4: AKTS | G4: Z/S | H4: Diğer/Temel Bilim/Meslek/Diğer | I4: Probleme Dayalı/Derse Dayalı/Entegre/Komite | J4: Uzaktan/Yüz Yüze | K4: Öğrenci Sayısı En Fazla | L4: PÇ1 | M4: PÇ2 | N4: PÇ3 | O4: PÇ4 | P4: PÇ5 | Q4: PÇ6 | R4: PÇ7 | S4: PÇ8 | T4: PÇ9 | U4: PÇ10 | V4: Ölçme Türü
A5: TUR100 | B5: TÜRK DİLİ I | C5: 2 | D5: 0 | E5: 2 | F5: 2 | G5: Z | H5: Diğer | I5: DD | J5: Uzaktan | K5: 84 | L5: 2 | M5: 1 | N5: 1 | O5: 1 | P5: 1 | Q5: 1 | R5: 1 | S5: 1 | T5: 1 | U5: 1 | V5: Sınav
A6: HEM107 | B6: HİSTOLOJİ | C6: 2 | D6: 0 | E6: 2 | F6: 3 | G6: Z | H6: Temel Bilim | I6: DD | J6: Yüz Yüze | K6: 84 | L6: 3 | M6: 2 | N6: 1.5 | O6: 2.75 | P6: 1.25 | Q6: 2 | R6: 1 | S6: 1.25 | T6: 1 | U6: 1.25 | V6: Sınav
A7: HEM105 | B7: BİYOKİMYA | C7: 2 | D7: 0 | E7: 2 | F7: 3 | G7: Z | H7: Temel Bilim | I7: DD | J7: Yüz Yüze | K7: 84 | L7: 3 | M7: 2.5 | N7: 2.5 | O7: 2.2 | P7: 1.7 | Q7: 2.5 | R7: 1 | S7: 1.5 | T7: 1 | U7: 1.5 | V7: Sınav
A8: HEM109 | B8: HEMŞİRELİĞE GİRİŞ | C8: 2 | D8: 0 | E8: 2 | F8: 3 | G8: Z | H8: Meslek | I8: DD | J8: Yüz Yüze | K8: 84 | L8: 2.7 | M8: 2.7 | N8: 3 | O8: 2.7 | P8: 1.5 | Q8: 1.3 | R8: 1.5 | S8: 2 | T8: 1.5 | U8: 2.2 | V8: Sınav
A9: ATA100 | B9: ATATÜRK İLKELERİ VE İNKILAP TARİHİ I | C9: 2 | D9: 0 | E9: 2 | F9: 2 | G9: Z | H9: Diğer | I9: DD | J9: Uzaktan | K9: 84 | L9: 1.6 | M9: 1.2 | N9: 1 | O9: 1 | P9: 1 | Q9: 1 | R9: 1 | S9: 1 | T9: 1 | U9: 1 | V9: Sınav
A10: HEM100 | B10: ANATOMİ | C10: 4 | D10: 0 | E10: 4 | F10: 5 | G10: Z | H10: Temel Bilim | I10: DD | J10: Yüz Yüze | K10: 84 | L10: 3 | M10: 3 | N10: 2 | O10: 2 | P10: 2 | Q10: 2 | R10: 1 | S10: 2 | T10: 1 | U10: 1
A11: KRY100 | B11: KARİYER PLANLAMA | C11: 1 | D11: 0 | E11: 1 | F11: 2 | G11: Z | H11: Diğer | I11: DD | J11: Uzaktan | K11: 84 | L11: 2.2 | M11: 1.4 | N11: 1.5 | O11: 2.2 | P11: 1.8 | Q11: 1.8 | R11: 1 | S11: 1 | T11: 1 | U11: 1 | V11: Sınav
A12: HEM121 | B12: FİZYOLOJİ | C12: 4 | D12: 0 | E12: 4 | F12: 5 | G12: Z | H12: Temel Bilim | I12: DD | J12: Yüz Yüze | K12: 84 | L12: 3 | M12: 1 | N12: 1 | O12: 2 | P12: 2 | Q12: 1 | R12: 1 | S12: 3 | T12: 1 | U12: 1 | V12: Sınav
A13: ING110 | B13: YABANCI DİL I | C13: 3 | D13: 0 | E13: 3 | F13: 5 | G13: Z | H13: Diğer | I13: DD | J13: Uzaktan | K13: 84 | L13: 1 | M13: 1 | N13: 1 | O13: 1 | P13: 1 | Q13: 2 | R13: 1 | S13: 1 | T13: 1 | U13: 3 | V13: Sınav
A14: SEC103 | B14: SEÇMELİ DERS | C14: 2 | D14: 0 | E14: 2 | F14: 3 | G14: S | H14: Seçmeli | I14: DD | J14: Yüz Yüze | K14: 21
A15: HEM121 | B15: Sağlık Sosyolojisi Ve Tıbbi Ant. | C15: 2 | D15: 0 | E15: 2 | F15: 3 | G15: S | H15: Temel Bilim | I15: DD | J15: Yüz Yüze | K15: 21 | L15: 2.8 | M15: 2.6 | N15: 2.4 | O15: 2 | P15: 1.8 | Q15: 1.8 | R15: 1.4 | S15: 1.2 | T15: 1.4 | U15: 1 | V15: Sınav, Sunum
A16: HEM111 | B16: Bilim Tarihi | C16: 2 | D16: 0 | E16: 2 | F16: 3 | G16: S | H16: Temel Bilim | I16: DD | J16: Yüz Yüze | K16: 21 | L16: 2.75 | M16: 2.25 | N16: 2.75 | O16: 2.75 | P16: 2 | Q16: 1 | R16: 1.75 | S16: 1 | T16: 2 | U16: 0.5 | V16: Sınav
A17: HEM123 | B17: DRAMA | C17: 2 | D17: 0 | E17: 2 | F17: 3 | G17: S | H17: Diğer | I17: DD | J17: Yüz Yüze | K17: 21 | L17: 1 | M17: 1 | N17: 2 | O17: 2 | P17: 2 | Q17: 2 | R17: 2 | S17: 2 | T17: 1 | U17: 1 | V17: Sınav
A18: HEM115 | B18: KENDİNİ TANIMA VE ETKİLİ İLETİŞİM YÖNTEMLERİ | C18: 2 | D18: 0 | E18: 2 | F18: 3 | G18: S | H18: Temel Bilim | I18: DD | J18: Yüz Yüze | K18: 21 | L18: 2.5 | M18: 2 | N18: 3 | O18: 2.75 | P18: 2.75 | Q18: 2.5 | R18: 3 | S18: 2 | T18: 2.75 | U18: 2.75 | V18: Sınav, Sunum
A19: ING112 | B19: YABANCI DİL II | C19: 3 | D19: 0 | E19: 3 | F19: 5 | G19: Z | H19: Diğer | I19: DD | J19: Uzaktan | K19: 84 | L19: 1 | M19: 1 | N19: 1 | O19: 1 | P19: 1 | Q19: 3 | R19: 1 | S19: 1 | T19: 1 | U19: 3
A20: ATA102 | B20: ATATÜRK İLKELERİ VE İNKILAP TARİHİ II | C20: 2 | D20: 0 | E20: 2 | F20: 2 | G20: Z | H20: Diğer | I20: DD | J20: Uzaktan | K20: 84 | L20: 2 | M20: 3 | N20: 2 | O20: 2 | P20: 1 | Q20: 1 | R20: 1 | S20: 1 | T20: 1 | U20: 1 | V20: Sınav
A21: HEM124 | B21: HEMŞİRELİK ESASLARI | C21: 6 | D21: 12 | E21: 9 | F21: 12 | G21: Z | H21: Meslek | I21: DD | J21: Yüz Yüze | K21: 84 | L21: 3 | M21: 3 | N21: 2 | O21: 3 | P21: 3 | Q21: 1 | R21: 1 | S21: 2 | T21: 2 | U21: 2 | V21: Sınav (Yazılı-Uygulama), Ödev
A22: HEM106 | B22: MİKROBİYOLOJİ/PARAZİTOLOJİ | C22: 3 | D22: 0 | E22: 3 | F22: 3 | G22: Z | H22: Temel Bilim | I22: DD | J22: Yüz Yüze | K22: 84 | L22: 2.75 | M22: 2.5 | N22: 2.25 | O22: 2 | P22: 2 | Q22: 1.25 | R22: 1.25 | S22: 1.25 | T22: 1 | U22: 1 | V22: Sınav
A23: TUR102 | B23: TÜRK DİLİ II | C23: 2 | D23: 0 | E23: 2 | F23: 2 | G23: Z | H23: Diğer | I23: DD | J23: Uzaktan | K23: 84 | L23: 3 | M23: 1 | N23: 2 | O23: 3 | P23: 3 | Q23: 3 | R23: 1 | S23: 1 | T23: 1 | U23: 1 | V23: Sınav
A24: OSD102 | B24: ORTAK SEÇMELİ DERS | C24: 2 | D24: 0 | E24: 2 | F24: 3 | G24: S | H24: Diğer | I24: DD | J24: Yüz Yüze | K24: 84
A25: FZT-SD50 | B25: YAPAY ZEKA GİRİŞ | C25: 2 | D25: 0 | E25: 2 | F25: 3 | G25: S | H25: Diğer | I25: DD | J25: Yüz Yüze | K25: 84 | L25: 1 | M25: 1 | N25: 1 | O25: 1 | P25: 1 | Q25: 1 | R25: 1 | S25: 1 | T25: 1 | U25: 1 | V25: Sınav
A26: SEC104 | B26: SEÇMELİ DERS | C26: 2 | D26: 0 | E26: 2 | F26: 3 | G26: S | H26: Seçmeli | I26: DD | J26: Yüz Yüze | K26: 84
B27: Beden Dili ve Etkili İletişim | H27: Temel Bilim | I27: DD | J27: Yüz Yüze | K27: 21 | L27: 3 | M27: 2 | N27: 2 | O27: 2 | P27: 2 | Q27: 2 | R27: 2 | S27: 3 | T27: 2 | U27: 3 | V27: Sınav, Sunum
A28: HEM120 | B28: TOPLUMSAL DUYARLILIK | C28: 2 | D28: 0 | E28: 2 | F28: 3 | G28: S | H28: Diğer | I28: DD | J28: Yüz Yüze | K28: 21 | L28: 1.2 | M28: 1.4 | N28: 1 | O28: 1.4 | P28: 1.4 | Q28: 1 | R28: 1.2 | S28: 1.4 | T28: 1 | U28: 1.4 | V28: Sına, Ödev
A29: HEM126 | B29: BAĞIMLILIK VE HEMŞİRELİK | C29: 2 | D29: 0 | E29: 2 | F29: 3 | G29: S | H29: Meslek | I29: DD | J29: Yüz Yüze | K29: 21 | L29: 3 | M29: 2 | N29: 2 | O29: 2 | P29: 2 | Q29: 2 | R29: 1 | S29: 2 | T29: 1 | U29: 3 | V29: Sınav
A30: HEM102 | B30: Temel Bilim BİLGİ VE İLETİŞİM TEKNOLOJİSİ KULLANIMI | C30: 2 | D30: 0 | E30: 2 | F30: 3 | G30: S | H30: Seçmeli | I30: DD | J30: Yüz Yüze | K30: 21 | L30: 1 | M30: 1 | N30: 2 | O30: 2 | P30: 2 | Q30: 2 | R30: 1 | S30: 1 | T30: 2 | U30: 3 | V30: Sınav
A31: HEM205 | B31: PATOLOJİ | C31: 2 | D31: 0 | E31: 2 | F31: 2 | G31: Z | H31: Temel Bilim | I31: DD | J31: Yüz Yüze | K31: 78 | L31: 3 | M31: 2.5 | N31: 2.25 | O31: 2.75 | P31: 1.75 | Q31: 2 | R31: 1.25 | S31: 1.75 | T31: 1.25 | U31: 1.25 | V31: Sınav
A32: HEM203 | B32: FARMAKOLOJİ | C32: 2 | D32: 0 | E32: 2 | F32: 2 | G32: Z | H32: Temel Bilim | I32: DD | J32: Yüz Yüze | K32: 78 | L32: 3 | M32: 2 | N32: 2 | O32: 2 | P32: 2 | Q32: 2 | R32: 1 | S32: 3 | T32: 1 | U32: 1 | V32: Sınav
A33: HEM233 | B33: İÇ HASTALIKLARI HEMŞİRELİĞİ | C33: 5 | D33: 8 | E33: 7 | F33: 9 | G33: Z | H33: Meslek | I33: DD | J33: Yüz Yüze | K33: 78 | L33: 3 | M33: 2.8 | N33: 2.4 | O33: 2.8 | P33: 1.8 | Q33: 2 | R33: 1 | S33: 1.8 | T33: 1.4 | U33: 1.6 | V33: Sınav, Ödev
A34: HEM235 | B34: CERRAHİ HASTALIKLAR HEMŞİRELİĞİ | C34: 5 | D34: 8 | E34: 7 | F34: 9 | G34: Z | H34: Meslek | I34: DD | J34: Yüz Yüze | K34: 78 | L34: 3 | M34: 2.2 | N34: 2.4 | O34: 2 | P34: 2 | Q34: 1.4 | R34: 2.2 | S34: 2.2 | T34: 1 | U34: 1 | V34: Sınav, Ödev
A35: HEM207 | B35: MESLEKİ İNGİLİZCE I | C35: 4 | D35: 0 | E35: 4 | F35: 5 | G35: Z | H35: Diğer | I35: DD | J35: Uzaktan | K35: 78 | L35: 1 | M35: 1 | N35: 1 | O35: 1 | P35: 1 | Q35: 2 | R35: 1 | S35: 1 | T35: 1 | U35: 3 | V35: Sınav
A36: SEC203 | B36: SEÇMELİ DERS | C36: 2 | D36: 0 | E36: 2 | F36: 3 | G36: S | H36: Seçmeli | I36: DD | J36: Yüz Yüze | K36: 78
A37: HEM 211 | B37: Palyatif Bakım | C37: 2 | D37: 0 | E37: 2 | F37: 3 | G37: S | H37: Meslek | I37: DD | J37: Yüz Yüze | K37: 20 | L37: 1.8 | M37: 1.4 | N37: 3 | O37: 2.8 | P37: 3 | Q37: 3 | R37: 3 | S37: 3 | T37: 2.6 | U37: 2.4 | V37: Sınav, Sunum
A38: HEM 213 | B38: Onkoloji Hemşireliği | C38: 2 | D38: 0 | E38: 2 | F38: 3 | G38: S | H38: Meslek | I38: DD | J38: Yüz Yüze | K38: 20 | L38: 1.5 | M38: 1.5 | N38: 1.3 | O38: 1.5 | P38: 2 | Q38: 1.3 | R38: 1 | S38: 1.8 | T38: 1 | U38: 1 | V38: Sınav
A39: HEM 221 | B39: Ağrı ve Ağrı Kesiciler | C39: 2 | D39: 0 | E39: 2 | F39: 3 | G39: S | H39: Meslek | I39: DD | J39: Yüz Yüze | K39: 19 | L39: 3 | M39: 2.7 | N39: 2.2 | O39: 2.5 | P39: 1.7 | Q39: 2.5 | R39: 1 | S39: 1.7 | T39: 1 | U39: 2 | V39: Sınav
A40: HEM229 | B40: Hemşirelikte İnovasyon | C40: 2 | D40: 0 | E40: 2 | F40: 3 | G40: S | H40: Meslek | I40: DD | J40: Yüz Yüze | K40: 19 | L40: 1.4 | M40: 2.4 | N40: 3 | O40: 2.8 | P40: 3 | Q40: 2.8 | R40: 2.8 | S40: 3 | T40: 3 | U40: 3 | V40: Sınav, Sunum
A41: HEM204 | B41: MESLEKİ İNGİLİZCE II | C41: 4 | D41: 0 | E41: 4 | F41: 5 | G41: Z | H41: Diğer | I41: DD | J41: Uzaktan | K41: 78 | L41: 1 | M41: 1 | N41: 1 | O41: 1 | P41: 1 | Q41: 2 | R41: 1 | S41: 1 | T41: 1 | U41: 3 | V41: Sınav
A42: HEM230 | B42: DOĞUM, KADIN SAĞLIĞI VE HASTALIKLARI HEMŞİRELİĞİ | C42: 5 | D42: 8 | E42: 7 | F42: 9 | G42: Z | H42: Meslek | I42: DD | J42: Yüz Yüze | K42: 78 | L42: 3 | M42: 2.6 | N42: 2.8 | O42: 3 | P42: 2 | Q42: 2.2 | R42: 2 | S42: 2.2 | T42: 2.4 | U42: 2.8 | V42: Sınav, Ödev
A43: HEM234 | B43: ÇOCUK SAĞLIĞI VE HASTALIKLARI HEMŞİRELİĞİ | C43: 5 | D43: 8 | E43: 7 | F43: 9 | G43: Z | H43: Meslek | I43: DD | J43: Yüz Yüze | K43: 78 | L43: 3 | M43: 3 | N43: 2 | O43: 3 | P43: 1 | Q43: 1 | R43: 2 | S43: 2 | T43: 1 | U43: 2 | V43: Sınav, Ödev
A44: HEM239 | B44: ENFEKSİYON HASTALIKLARINDA BAKIM | C44: 2 | D44: 0 | E44: 2 | F44: 3 | G44: Z | H44: Meslek | I44: DD | J44: Yüz Yüze | K44: 78 | L44: 2.6 | M44: 2.6 | N44: 2.2 | O44: 2.2 | P44: 2.6 | Q44: 2 | R44: 1 | S44: 1.8 | T44: 1.8 | U44: 1 | V44: Sınav
A45: SEC204 | B45: SEÇMELİ DERS | C45: 2 | D45: 0 | E45: 2 | F45: 3 | G45: S | H45: Seçmeli | I45: DD | J45: Yüz Yüze | K45: 78
A46: HEM224 | B46: HEMŞİRELİKTE ETİK VE DEĞERLER | C46: 2 | D46: 0 | E46: 2 | F46: 3 | G46: S | H46: Meslek | I46: DD | J46: Yüz Yüze | K46: 26 | L46: 2.5 | M46: 1.75 | N46: 3 | O46: 2.5 | P46: 1.5 | Q46: 2.5 | R46: 1 | S46: 0.75 | T46: 1 | U46: 2 | V46: Sınav, Ödev
A47: HEM232 | B47: JİNEKOLOJİK ONKOLOJİ | C47: 2 | D47: 0 | E47: 2 | F47: 3 | G47: S | H47: Meslek | I47: DD | J47: Yüz Yüze | K47: 26 | L47: 3 | M47: 1 | N47: 1 | O47: 1 | P47: 1 | Q47: 1 | R47: 1 | S47: 2 | T47: 1 | U47: 1 | V47: Sınav, Sunum
A48: HEM303 | B48: EPİDEMİYOLOJİ | C48: 2 | D48: 0 | E48: 2 | F48: 5 | G48: Z | H48: Meslek | I48: DD | J48: Yüz Yüze | K48: 54 | L48: 3 | M48: 2.5 | N48: 2 | O48: 2.5 | P48: 2.5 | Q48: 2 | R48: 1 | S48: 1.75 | T48: 1.5 | U48: 1 | V48: Sınav
A49: HEM305 | B49: HEMŞİRELİKTE ARAŞTIRMA YÖNTEMLERİ | C49: 2 | D49: 0 | E49: 2 | F49: 5 | G49: Z | H49: Temel Bilim | I49: DD | J49: Yüz Yüze | K49: 54 | L49: 3 | M49: 1.25 | N49: 1.25 | O49: 3 | P49: 3 | Q49: 2.5 | R49: 1 | S49: 1 | T49: 1 | U49: 2 | V49: Sınav
A50: HEM327 | B50: HEMŞİRELİKTE ÖĞRETİM | C50: 2 | D50: 0 | E50: 2 | F50: 5 | G50: Z | H50: Meslek | I50: DD | J50: Yüz Yüze | K50: 54 | L50: 2.2 | M50: 1.2 | N50: 1.6 | O50: 2.2 | P50: 2.4 | Q50: 2 | R50: 1 | S50: 1.2 | T50: 1 | U50: 1.4 | V50: Sınav
A51: HEM339 | B51: RUH SAĞLIĞI HASTALIKLARI HEMŞİRELİĞİ | C51: 5 | D51: 8 | E51: 7 | F51: 9 | G51: Z | H51: Meslek | I51: DD | J51: Yüz Yüze | K51: 54 | L51: 3 | M51: 2.5 | N51: 2.5 | O51: 2.25 | P51: 1.75 | Q51: 1.5 | R51: 1.25 | S51: 2.75 | T51: 1 | U51: 2.25 | V51: Sınav, Ödev
A52: OSD301 | B52: ORTAK SEÇMELİ DERS | C52: 2 | D52: 0 | E52: 2 | F52: 3 | G52: S | H52: Diğer | I52: DD | J52: Yüz Yüze | K52: 54
A53: BDY-SD7 | B53: YAŞAM BOYU SPOR | C53: 2 | D53: 0 | E53: 2 | F53: 3 | G53: S | H53: Diğer | I53: DD | J53: Yüz Yüze | K53: 54 | L53: 2 | M53: 2.5 | N53: 1.7 | O53: 2 | P53: 2.2 | Q53: 1.7 | R53: 1.25 | S53: 1.7 | T53: 1 | U53: 1 | V53: Sınav
A54: SEC303 | B54: SEÇMELİ DERS | C54: 2 | D54: 0 | E54: 2 | F54: 3 | G54: S | H54: Seçmeli | I54: DD | J54: Yüz Yüze | K54: 54
A55: HEM320 | B55: KRONİK HASTALIKLAR VE YAŞAM KALİTESİ | C55: 2 | D55: 0 | E55: 2 | F55: 3 | G55: S | H55: Meslek | I55: DD | J55: Yüz Yüze | K55: 20 | L55: 3 | M55: 3 | N55: 3 | O55: 2 | P55: 2 | Q55: 2 | R55: 2 | S55: 2 | T55: 2 | U55: 1 | V55: Sınav, Sunum
A56: HEM309 | B56: CİNSEL SAĞLIK/ÜREME SAĞLIĞI | C56: 2 | D56: 0 | E56: 2 | F56: 3 | G56: S | H56: Meslek | I56: DD | J56: Yüz Yüze | K56: 20 | L56: 2.8 | M56: 2.6 | N56: 3 | O56: 2.8 | P56: 2.6 | Q56: 2 | R56: 3 | S56: 2.8 | T56: 2.8 | U56: 3 | V56: Sınav, Sunum
A57: HEM311 | B57: AMELİYATHANE HEMŞİRELİĞİ | C57: 2 | D57: 0 | E57: 2 | F57: 3 | G57: S | H57: Meslek | I57: DD | J57: Yüz Yüze | K57: 16 | L57: 2.4 | M57: 2.8 | N57: 1.4 | O57: 1.4 | P57: 1.4 | Q57: 1 | R57: 1.8 | S57: 1.6 | T57: 1 | U57: 1.2 | V57: Sınav
A58: HEM317 | B58: ANNE VE ÇOCUK BESLENMESİ | C58: 2 | D58: 0 | E58: 2 | F58: 3 | G58: S | H58: Meslek | I58: DD | J58: Yüz Yüze | K58: 14 | L58: 3 | M58: 1.75 | N58: 1.25 | O58: 2.5 | P58: 1 | Q58: 1 | R58: 1 | S58: 1 | T58: 1 | U58: 1.5 | V58: Sınav
A59: HEM307 | B59: HEMŞİRELİK TARİHİ VE DEONTOLOJİ | C59: 2 | D59: 0 | E59: 2 | F59: 3 | G59: S | H59: Meslek | I59: DD | J59: Yüz Yüze | K59: 16 | L59: 3 | M59: 2.2 | N59: 1.6 | O59: 3 | P59: 1.8 | Q59: 2 | R59: 1 | S59: 2 | T59: 1 | U59: 1 | V59: Sınav, Sunum
A60: HEM334 | B60: HALK SAĞLIĞI HEMŞİRELİĞİ | C60: 5 | D60: 8 | E60: 7 | F60: 9 | G60: Z | H60: Meslek | I60: DD | J60: Yüz Yüze | K60: 54 | L60: 2 | M60: 3 | N60: 2 | O60: 2 | P60: 2 | Q60: 2 | R60: 1 | S60: 2 | T60: 1 | U60: 2 | V60: Sınav, Ödev
A61: HEM302 | B61: BİYOİSTATİSTİK | C61: 2 | D61: 0 | E61: 2 | F61: 5 | G61: Z | H61: Temel Bilim | I61: DD | J61: Yüz Yüze | K61: 54 | L61: 3 | M61: 2 | N61: 2.25 | O61: 1.25 | P61: 1.75 | Q61: 1 | R61: 1 | S61: 1 | T61: 1 | U61: 1 | V61: Sınav
A62: HEM326 | B62: HEMŞİRELİKTE YÖNETİM | C62: 2 | D62: 0 | E62: 2 | F62: 5 | G62: Z | H62: Meslek | I62: DD | J62: Yüz Yüze | K62: 54 | L62: 2 | M62: 1.4 | N62: 1.6 | O62: 1.6 | P62: 1.2 | Q62: 1.4 | R62: 1.8 | S62: 1.4 | T62: 1.8 | U62: 1.2 | V62: Sınav
A63: HEM322 | B63: İLK YARDIM | C63: 2 | D63: 0 | E63: 2 | F63: 5 | G63: Z | H63: Meslek | I63: DD | J63: Yüz Yüze | K63: 54 | L63: 2.2 | M63: 1.4 | N63: 2.2 | O63: 2 | P63: 1 | Q63: 1.2 | R63: 1.4 | S63: 2 | T63: 1 | U63: 1 | V63: Sınav
A64: SEC304 | B64: SEÇMELİ DERS | C64: 2 | D64: 0 | E64: 2 | F64: 3 | G64: S | H64: Seçmeli | I64: DD | J64: Yüz Yüze | K64: 54
A65: SEC304 | B65: SEÇMELİ DERS | C65: 2 | D65: 0 | E65: 2 | F65: 3 | G65: S | H65: Seçmeli | I65: DD | J65: Yüz Yüze | K65: 54
A66: HEM320 | B66: KANITA DAYALI HEMŞİRELİK | C66: 2 | D66: 0 | E66: 2 | F66: 3 | G66: S | H66: Meslek | I66: DD | J66: Yüz Yüze | K66: 14 | L66: 3 | M66: 1.5 | N66: 1 | O66: 3 | P66: 2.5 | Q66: 2.5 | R66: 1.25 | S66: 0.75 | T66: 0.75 | U66: 0.75 | V66: Sınav, Ödev
A67: HEM316 | B67: ERGEN SAĞLIĞI | C67: 2 | D67: 0 | E67: 2 | F67: 3 | G67: S | H67: Meslek | I67: DD | J67: Yüz Yüze | K67: 14 | L67: 3 | M67: 3 | N67: 3 | O67: 3 | P67: 3 | Q67: 3 | R67: 3 | S67: 3 | T67: 3 | U67: 3 | V67: Sınav
A68: HEM308 | B68: ÇOCUK ACİL VE YOĞUN BAKIM | C68: 2 | D68: 0 | E68: 2 | F68: 3 | G68: S | H68: Meslek | I68: DD | J68: Yüz Yüze | K68: 13 | L68: 2 | M68: 2 | N68: 2 | O68: 1 | P68: 1 | Q68: 1 | R68: 1 | S68: 1 | T68: 1 | U68: 1 | V68: Sınav
A69: HEM310 | B69: YENİDOĞAN VE HASTALIKLARI | C69: 2 | D69: 0 | E69: 2 | F69: 3 | G69: S | H69: Meslek | I69: DD | J69: Yüz Yüze | K69: 13 | L69: 3 | M69: 2.5 | N69: 2.5 | O69: 2.5 | P69: 2.5 | Q69: 1.75 | R69: 1.5 | S69: 1 | T69: 1 | U69: 1 | V69: Sınav
A70: HEM421 | B70: HEMŞİRELİK MESLEK UYGULAMALARI I | C70: 1 | D70: 39 | E70: 11 | F70: 32 | G70: Z | H70: Meslek | I70: DD | J70: Yüz Yüze | K70: 49 | L70: 2.3 | M70: 2.9 | N70: 2.9 | O70: 2.9 | P70: 2.9 | Q70: 2.3 | R70: 1.9 | S70: 2.7 | T70: 1.9 | U70: 1.7 | V70: Vaka Sunumu, Ödev
A71: HEM420 | B71: HEMŞİRELİK MESLEK UYGULAMALARI II | C71: 1 | D71: 39 | E71: 11 | F71: 32 | G71: Z | H71: Meslek | I71: DD | J71: Yüz Yüze | K71: 49 | L71: 2.5 | M71: 2.75 | N71: 2.5 | O71: 2.25 | P71: 0.75 | Q71: 1.5 | R71: 1 | S71: 1.75 | T71: 1 | U71: 1.5 | V71: Vaka Sunumu, Ödev

Sheet Ders Değerlendirme
A1: DERSLER | B1: HAM NOT | C1: DERS DEĞERLENDİRME (MEM.) | D1: PROGRAM ÇIKTI ULAŞMA (SAPMA) | E1: İŞ YÜKÜ | F1: DERS ÇIKTISI
A2: TÜRK DİLİ I | B2: 87 | C2: 4.1 | D2: 15 | E2: 65 | F2: 4
A3: HİSTOLOJİ | B3: 60 | C3: 4.38 | D3: 26.4 | E3: 52 | F3: 4.39
A4: BİYOKİMYA | B4: 65.48 | C4: 3.63 | D4: 16.3 | E4: 63 | F4: 3.48
A5: HEMŞİRELİĞE GİRİŞ | B5: 64.4 | C5: 3.54 | D5: 16.1 | E5: 77.5 | F5: 3.65
A6: ATATÜRK İLKELERİ VE İNKILAP TARİHİ I | B6: 70.8 | C6: 4.29 | D6: 15 | E6: 65 | F6: 4.29
A7: ANATOMİ | B7: 69.2 | C7: 3.89 | D7: 15.5 | E7: 57.3 | F7: 3.95
A8: KARİYER PLANLAMA | B8: 73.19 | C8: 3.8 | D8: 18 | E8: 57 | F8: 3.65
A9: FİZYOLOJİ | B9: 59 | C9: 3.7 | D9: 3.4 | E9: 119 | F9: 3.4
A10: YABANCI DİL I | B10: 76.7 | C10: 5 | D10: 15.2 | E10: 83 | F10: 4.2
A11: SEÇMELİ DERS
A12: Sağlık Sosyolojisi Ve Tıbbi Ant. | B12: 89 | C12: 4.2 | D12: 17.8 | E12: 84 | F12: 4
A13: Bilim Tarihi | B13: 81.75 | C13: 4.5 | D13: 20.4 | E13: 82 | F13: 4.4
A14: DRAMA | B14: 90.05 | C14: 4.2 | D14: 22.5 | E14: 88 | F14: 4.36
A15: KENDİNİ TANIMA VE ETKİLİ İLETİŞİM YÖNTEMLERİ | B15: 88.85 | C15: 3.82 | D15: 22.2 | E15: 75.4 | F15: 3.83
A16: YABANCI DİL II | B16: 75.98 | C16: 3.76 | D16: 12.91 | E16: 93.06 | F16: 3.61
A17: ATATÜRK İLKELERİ VE İNKILAP TARİHİ II | B17: 78.75 | C17: 4.31 | D17: 17.7 | E17: 55.69 | F17: 4.32
A18: HEMŞİRELİK ESASLARI | B18: 76.06 | C18: 3.83 | D18: 15.21 | E18: 363.43 | F18: 3.77
A19: MİKROBİYOLOJİ/PARAZİTOLOJİ | B19: 61.48 | C19: 4 | D19: 14.46 | E19: 86 | F19: 4.19
A20: TÜRK DİLİ II | B20: 82.85 | C20: 4.35 | D20: 14.5 | E20: 54 | F20: 4.28
A21: ORTAK SEÇMELİ DERS
A22: YAPAY ZEKA GİRİŞ | B22: 97.83 | C22: 4.22 | D22: 24.45 | E22: 68.67 | F22: 4.26
A23: SEÇMELİ DERS
A24: Beden Dili ve Etkili İletişim | B24: 78.87 | C24: 4.2 | D24: 19.7 | E24: 71.22 | F24: 4.2
A25: TOPLUMSAL DUYARLILIK | B25: 91.2 | C25: 3.78 | D25: 18.24 | E25: 96.5 | F25: 3.93
A26: BAĞIMLILIK VE HEMŞİRELİK | B26: 72.45 | C26: 4.02 | D26: 18.11 | E26: 113.67 | F26: 4.06
A27: TEMEL BİLGİ VE İLETİŞİM TEKNOLOJİSİ KULLANIMI | B27: 92.44 | C27: 4.84 | D27: 18.48 | E27: 82 | F27: 4.79
A28: PATOLOJİ | B28: 80 | C28: 4.28 | D28: 26 | E28: 52 | F28: 4.34
A29: FARMAKOLOJİ | B29: 71.45 | C29: 3.56 | D29: 5.61 | E29: 85 | F29: 3.58
A30: İÇ HASTALIKLARI HEMŞİRELİĞİ | B30: 66.24 | C30: 3.65 | D30: 13.2 | E30: 275.7 | F30: 3.53
A31: CERRAHİ HASTALIKLAR HEMŞİRELİĞİ | B31: 77.69 | C31: 3.35 | D31: 15.5 | E31: 242.67 | F31: 3.62
A32: MESLEKİ İNGİLİZCE I | B32: 79 | C32: 3.55 | D32: 15.5 | E32: 84 | F32: 3.6
A33: SEÇMELİ DERS
A34: Palyatif Bakım | B34: 84.2 | C34: 3.82 | D34: 16.8 | E34: 104 | F34: 3.73
A35: Onkoloji Hemşireliği | B35: 84.2 | C35: 3.52 | D35: 21 | E35: 74.55 | F35: 3.61
A36: Ağrı ve Ağrı Kesiciler | B36: 78.2 | C36: 4.1 | D36: 19.5 | E36: 56.24 | F36: 4.5
A37: Hemşirelikte İnovasyon | B37: 76.1 | C37: 3.62 | D37: 15.2 | E37: 79.8 | F37: 3.63
A38: MESLEKİ İNGİLİZCE II | B38: 68.67 | C38: 3.48 | D38: 13.73 | E38: 102.47 | F38: 3.42
A39: DOĞUM, KADIN SAĞLIĞI VE HASTALIKLARI HEMŞİRELİĞİ | B39: 72.6 | C39: 3.75 | D39: 14.52 | E39: 261.9 | F39: 3.74
A40: ÇOCUK SAĞLIĞI VE HASTALIKLARI HEMŞİRELİĞİ | B40: 65 | C40: 3.82 | D40: 13 | E40: 284.53 | F40: 3.89
A41: ENFEKSİYON HASTALIKLARINDA BAKIM | B41: 76.8 | C41: 3.17 | D41: 15.36 | E41: 109.8 | F41: 3.28
A42: SEÇMELİ DERS
A43: HEMŞİRELİKTE ETİK VE DEĞERLER | B43: 87.43 | C43: 3.89 | D43: 17.48 | E43: 94.28 | F43: 4
A44: JİNEKOLOJİK ONKOLOJİ | B44: 78.78 | C44: 4.29 | D44: 19.38 | E44: 82.44 | F44: 3.91
A45: EPİDEMİYOLOJİ | B45: 76.39 | C45: 4.1 | D45: 19 | E45: 85.61 | F45: 3.93
A46: HEMŞİRELİKTE ARAŞTIRMA YÖNTEMLERİ | B46: 67.9 | C46: 3.98 | D46: 16.9 | E46: 84.1 | F46: 3.95
A47: HEMŞİRELİKTE ÖĞRETİM | B47: 72.1 | C47: 4.04 | D47: 14.4 | E47: 85 | F47: 3.91
A48: RUH SAĞLIĞI HASTALIKLARI HEMŞİRELİĞİ | B48: 64.37 | C48: 4.33 | D48: 16 | E48: 294.8 | F48: 4.24
A49: ORTAK SEÇMELİ DERS
A50: YAŞAM BOYU SPOR | B50: 86.23 | C50: 4.1 | D50: 21.5 | E50: 77.35 | F50: 4.1
A51: SEÇMELİ DERS
A52: KRONİK HASTALIKLAR VE YAŞAM KALİTESİ | B52: 85 | C52: 4.1 | D52: 17 | E52: 76.4 | F52: 4.3
A53: CİNSEL SAĞLIK/ÜREME SAĞLIĞI | B53: 75 | C53: 3.6 | D53: 15 | E53: 88 | F53: 4
A54: AMELİYATHANE HEMŞİRELİĞİ | B54: 76.5 | C54: 4.34 | D54: 15.29 | E54: 81.54 | F54: 4.18
A55: ANNE VE ÇOCUK BESLENMESİ | B55: 80.2 | C55: 4.36 | D55: 20 | E55: 91 | F55: 4.36
A56: HEMŞİRELİK TARİHİ VE DEONTOLOJİ | B56: 93 | C56: 4.2 | D56: 18.6 | E56: 85 | F56: 3.9
A57: HALK SAĞLIĞI HEMŞİRELİĞİ | B57: 68.17 | C57: 3.99 | D57: 13.63 | E57: 318.56 | F57: 3.99
A58: BİYOİSTATİSTİK | B58: 75.13 | C58: 4.08 | D58: 18.78 | E58: 116.95 | F58: 4
A59: HEMŞİRELİKTE YÖNETİM | B59: 77 | C59: 3.86 | D59: 15.4 | E59: 98.3 | F59: 3.8
A60: İLK YARDIM | B60: 78.6 | C60: 3.89 | D60: 15.72 | E60: 90.69 | F60: 3.92
A61: SEÇMELİ DERS
A62: SEÇMELİ DERS
A63: KANITA DAYALI HEMŞİRELİK | B63: 81.86 | C63: 4.89 | D63: 18.14 | E63: 85 | F63: 3.92
A64: ERGEN SAĞLIĞI | B64: 76.59 | C64: 4.05 | D64: 19.15 | E64: 87.65 | F64: 4.01
A65: ÇOCUK ACİL VE YOĞUN BAKIM | B65: 81.71 | C65: 4.11 | D65: 20.42 | E65: 84.01 | F65: 4.14
A66: YENİDOĞAN VE HASTALIKLARI | B66: 97.22 | C66: 3.63 | D66: 14.84 | E66: 86.48 | F66: 3.7
A67: HEMŞİRELİK MESLEK UYGULAMALARI I | B67: 91 | C67: 4 | D67: 12.7 | E67: 673 | F67: 3.9
A68: HEMŞİRELİK MESLEK UYGULAMALARI II | B68: 91.1 | C68: 4.01 | D68: 20.52 | E68: 722.67 | F68: 4.1

Sheet PÇ Ulaşma
A1: DERSLER | B1: PÇ1 | C1: PÇ2 | D1: PÇ3 | E1: PÇ4 | F1: PÇ5 | G1: PÇ6 | H1: PÇ7 | I1: PÇ8 | J1: PÇ9 | K1: PÇ10
A2: TÜRK DİLİ I | B2: ='Ders Değerlendirme'!B2*'MÜFREDAT-PÇ'!L5 -> 174 | C2: ='Ders Değerlendirme'!B2*'MÜFREDAT-PÇ'!M5 -> 87 | D2: ='Ders Değerlendirme'!B2*'MÜFREDAT-PÇ'!N5 -> 87 | E2: ='Ders Değerlendirme'!B2*'MÜFREDAT-PÇ'!O5 -> 87 | F2: ='Ders Değerlendirme'!B2*'MÜFREDAT-PÇ'!P5 -> 87 | G2: ='Ders Değerlendirme'!B2*'MÜFREDAT-PÇ'!Q5 -> 87 | H2: ='Ders Değerlendirme'!B2*'MÜFREDAT-PÇ'!R5 -> 87 | I2: ='Ders Değerlendirme'!B2*'MÜFREDAT-PÇ'!S5 -> 87 | J2: ='Ders Değerlendirme'!B2*'MÜFREDAT-PÇ'!T5 -> 87 | K2: ='Ders Değerlendirme'!B2*'MÜFREDAT-PÇ'!U5 -> 87
A3: HİSTOLOJİ | B3: ='Ders Değerlendirme'!B3*'MÜFREDAT-PÇ'!L6 -> 180 | C3: ='Ders Değerlendirme'!B3*'MÜFREDAT-PÇ'!M6 -> 120 | D3: ='Ders Değerlendirme'!B3*'MÜFREDAT-PÇ'!N6 -> 90 | E3: ='Ders Değerlendirme'!B3*'MÜFREDAT-PÇ'!O6 -> 165 | F3: ='Ders Değerlendirme'!B3*'MÜFREDAT-PÇ'!P6 -> 75 | G3: ='Ders Değerlendirme'!B3*'MÜFREDAT-PÇ'!Q6 -> 120 | H3: ='Ders Değerlendirme'!B3*'MÜFREDAT-PÇ'!R6 -> 60 | I3: ='Ders Değerlendirme'!B3*'MÜFREDAT-PÇ'!S6 -> 75 | J3: ='Ders Değerlendirme'!B3*'MÜFREDAT-PÇ'!T6 -> 60 | K3: ='Ders Değerlendirme'!B3*'MÜFREDAT-PÇ'!U6 -> 75
A4: BİYOKİMYA | B4: ='Ders Değerlendirme'!B4*'MÜFREDAT-PÇ'!L7 -> 196.44 | C4: ='Ders Değerlendirme'!B4*'MÜFREDAT-PÇ'!M7 -> 163.7 | D4: ='Ders Değerlendirme'!B4*'MÜFREDAT-PÇ'!N7 -> 163.7 | E4: ='Ders Değerlendirme'!B4*'MÜFREDAT-PÇ'!O7 -> 144.056 | F4: ='Ders Değerlendirme'!B4*'MÜFREDAT-PÇ'!P7 -> 111.316 | G4: ='Ders Değerlendirme'!B4*'MÜFREDAT-PÇ'!Q7 -> 163.7 | H4: ='Ders Değerlendirme'!B4*'MÜFREDAT-PÇ'!R7 -> 65.48 | I4: ='Ders Değerlendirme'!B4*'MÜFREDAT-PÇ'!S7 -> 98.22 | J4: ='Ders Değerlendirme'!B4*'MÜFREDAT-PÇ'!T7 -> 65.48 | K4: ='Ders Değerlendirme'!B4*'MÜFREDAT-PÇ'!U7 -> 98.22
A5: HEMŞİRELİĞE GİRİŞ | B5: ='Ders Değerlendirme'!B5*'MÜFREDAT-PÇ'!L8 -> 173.88 | C5: ='Ders Değerlendirme'!B5*'MÜFREDAT-PÇ'!M8 -> 173.88 | D5: ='Ders Değerlendirme'!B5*'MÜFREDAT-PÇ'!N8 -> 193.2 | E5: ='Ders Değerlendirme'!B5*'MÜFREDAT-PÇ'!O8 -> 173.88 | F5: ='Ders Değerlendirme'!B5*'MÜFREDAT-PÇ'!P8 -> 96.6 | G5: ='Ders Değerlendirme'!B5*'MÜFREDAT-PÇ'!Q8 -> 83.72 | H5: ='Ders Değerlendirme'!B5*'MÜFREDAT-PÇ'!R8 -> 96.6 | I5: ='Ders Değerlendirme'!B5*'MÜFREDAT-PÇ'!S8 -> 128.8 | J5: ='Ders Değerlendirme'!B5*'MÜFREDAT-PÇ'!T8 -> 96.6 | K5: ='Ders Değerlendirme'!B5*'MÜFREDAT-PÇ'!U8 -> 141.68
A6: ATATÜRK İLKELERİ VE İNKILAP TARİHİ I | B6: ='Ders Değerlendirme'!B6*'MÜFREDAT-PÇ'!L9 -> 113.28 | C6: ='Ders Değerlendirme'!B6*'MÜFREDAT-PÇ'!M9 -> 84.96 | D6: ='Ders Değerlendirme'!B6*'MÜFREDAT-PÇ'!N9 -> 70.8 | E6: ='Ders Değerlendirme'!B6*'MÜFREDAT-PÇ'!O9 -> 70.8 | F6: ='Ders Değerlendirme'!B6*'MÜFREDAT-PÇ'!P9 -> 70.8 | G6: ='Ders Değerlendirme'!B6*'MÜFREDAT-PÇ'!Q9 -> 70.8 | H6: ='Ders Değerlendirme'!B6*'MÜFREDAT-PÇ'!R9 -> 70.8 | I6: ='Ders Değerlendirme'!B6*'MÜFREDAT-PÇ'!S9 -> 70.8 | J6: ='Ders Değerlendirme'!B6*'MÜFREDAT-PÇ'!T9 -> 70.8 | K6: ='Ders Değerlendirme'!B6*'MÜFREDAT-PÇ'!U9 -> 70.8
A7: ANATOMİ | B7: ='Ders Değerlendirme'!B7*'MÜFREDAT-PÇ'!L10 -> 207.6 | C7: ='Ders Değerlendirme'!B7*'MÜFREDAT-PÇ'!M10 -> 207.6 | D7: ='Ders Değerlendirme'!B7*'MÜFREDAT-PÇ'!N10 -> 138.4 | E7: ='Ders Değerlendirme'!B7*'MÜFREDAT-PÇ'!O10 -> 138.4 | F7: ='Ders Değerlendirme'!B7*'MÜFREDAT-PÇ'!P10 -> 138.4 | G7: ='Ders Değerlendirme'!B7*'MÜFREDAT-PÇ'!Q10 -> 138.4 | H7: ='Ders Değerlendirme'!B7*'MÜFREDAT-PÇ'!R10 -> 69.2 | I7: ='Ders Değerlendirme'!B7*'MÜFREDAT-PÇ'!S10 -> 138.4 | J7: ='Ders Değerlendirme'!B7*'MÜFREDAT-PÇ'!T10 -> 69.2 | K7: ='Ders Değerlendirme'!B7*'MÜFREDAT-PÇ'!U10 -> 69.2
A8: KARİYER PLANLAMA | B8: ='Ders Değerlendirme'!B8*'MÜFREDAT-PÇ'!L11 -> 161.018 | C8: ='Ders Değerlendirme'!B8*'MÜFREDAT-PÇ'!M11 -> 102.466 | D8: ='Ders Değerlendirme'!B8*'MÜFREDAT-PÇ'!N11 -> 109.785 | E8: ='Ders Değerlendirme'!B8*'MÜFREDAT-PÇ'!O11 -> 161.018 | F8: ='Ders Değerlendirme'!B8*'MÜFREDAT-PÇ'!P11 -> 131.742 | G8: ='Ders Değerlendirme'!B8*'MÜFREDAT-PÇ'!Q11 -> 131.742 | H8: ='Ders Değerlendirme'!B8*'MÜFREDAT-PÇ'!R11 -> 73.19 | I8: ='Ders Değerlendirme'!B8*'MÜFREDAT-PÇ'!S11 -> 73.19 | J8: ='Ders Değerlendirme'!B8*'MÜFREDAT-PÇ'!T11 -> 73.19 | K8: ='Ders Değerlendirme'!B8*'MÜFREDAT-PÇ'!U11 -> 73.19
A9: FİZYOLOJİ | B9: ='Ders Değerlendirme'!B9*'MÜFREDAT-PÇ'!L12 -> 177 | C9: ='Ders Değerlendirme'!B9*'MÜFREDAT-PÇ'!M12 -> 59 | D9: ='Ders Değerlendirme'!B9*'MÜFREDAT-PÇ'!N12 -> 59 | E9: ='Ders Değerlendirme'!B9*'MÜFREDAT-PÇ'!O12 -> 118 | F9: ='Ders Değerlendirme'!B9*'MÜFREDAT-PÇ'!P12 -> 118 | G9: ='Ders Değerlendirme'!B9*'MÜFREDAT-PÇ'!Q12 -> 59 | H9: ='Ders Değerlendirme'!B9*'MÜFREDAT-PÇ'!R12 -> 59 | I9: ='Ders Değerlendirme'!B9*'MÜFREDAT-PÇ'!S12 -> 177 | J9: ='Ders Değerlendirme'!B9*'MÜFREDAT-PÇ'!T12 -> 59 | K9: ='Ders Değerlendirme'!B9*'MÜFREDAT-PÇ'!U12 -> 59
A10: YABANCI DİL I | B10: ='Ders Değerlendirme'!B10*'MÜFREDAT-PÇ'!L13 -> 76.7 | C10: ='Ders Değerlendirme'!B10*'MÜFREDAT-PÇ'!M13 -> 76.7 | D10: ='Ders Değerlendirme'!B10*'MÜFREDAT-PÇ'!N13 -> 76.7 | E10: ='Ders Değerlendirme'!B10*'MÜFREDAT-PÇ'!O13 -> 76.7 | F10: ='Ders Değerlendirme'!B10*'MÜFREDAT-PÇ'!P13 -> 76.7 | G10: ='Ders Değerlendirme'!B10*'MÜFREDAT-PÇ'!Q13 -> 153.4 | H10: ='Ders Değerlendirme'!B10*'MÜFREDAT-PÇ'!R13 -> 76.7 | I10: ='Ders Değerlendirme'!B10*'MÜFREDAT-PÇ'!S13 -> 76.7 | J10: ='Ders Değerlendirme'!B10*'MÜFREDAT-PÇ'!T13 -> 76.7 | K10: ='Ders Değerlendirme'!B10*'MÜFREDAT-PÇ'!U13 -> 230.1
A11: SEÇMELİ DERS
A12: Sağlık Sosyolojisi Ve Tıbbi Ant. | B12: ='Ders Değerlendirme'!B12*'MÜFREDAT-PÇ'!L15 -> 249.2 | C12: ='Ders Değerlendirme'!B12*'MÜFREDAT-PÇ'!M15 -> 231.4 | D12: ='Ders Değerlendirme'!B12*'MÜFREDAT-PÇ'!N15 -> 213.6 | E12: ='Ders Değerlendirme'!B12*'MÜFREDAT-PÇ'!O15 -> 178 | F12: ='Ders Değerlendirme'!B12*'MÜFREDAT-PÇ'!P15 -> 160.2 | G12: ='Ders Değerlendirme'!B12*'MÜFREDAT-PÇ'!Q15 -> 160.2 | H12: ='Ders Değerlendirme'!B12*'MÜFREDAT-PÇ'!R15 -> 124.6 | I12: ='Ders Değerlendirme'!B12*'MÜFREDAT-PÇ'!S15 -> 106.8 | J12: ='Ders Değerlendirme'!B12*'MÜFREDAT-PÇ'!T15 -> 124.6 | K12: ='Ders Değerlendirme'!B12*'MÜFREDAT-PÇ'!U15 -> 89
A13: Bilim Tarihi | B13: ='Ders Değerlendirme'!B13*'MÜFREDAT-PÇ'!L16 -> 224.8125 | C13: ='Ders Değerlendirme'!B13*'MÜFREDAT-PÇ'!M16 -> 183.9375 | D13: ='Ders Değerlendirme'!B13*'MÜFREDAT-PÇ'!N16 -> 224.8125 | E13: ='Ders Değerlendirme'!B13*'MÜFREDAT-PÇ'!O16 -> 224.8125 | F13: ='Ders Değerlendirme'!B13*'MÜFREDAT-PÇ'!P16 -> 163.5 | G13: ='Ders Değerlendirme'!B13*'MÜFREDAT-PÇ'!Q16 -> 81.75 | H13: ='Ders Değerlendirme'!B13*'MÜFREDAT-PÇ'!R16 -> 143.0625 | I13: ='Ders Değerlendirme'!B13*'MÜFREDAT-PÇ'!S16 -> 81.75 | J13: ='Ders Değerlendirme'!B13*'MÜFREDAT-PÇ'!T16 -> 163.5 | K13: ='Ders Değerlendirme'!B13*'MÜFREDAT-PÇ'!U16 -> 40.875
A14: DRAMA | B14: ='Ders Değerlendirme'!B14*'MÜFREDAT-PÇ'!L17 -> 90.05 | C14: ='Ders Değerlendirme'!B14*'MÜFREDAT-PÇ'!M17 -> 90.05 | D14: ='Ders Değerlendirme'!B14*'MÜFREDAT-PÇ'!N17 -> 180.1 | E14: ='Ders Değerlendirme'!B14*'MÜFREDAT-PÇ'!O17 -> 180.1 | F14: ='Ders Değerlendirme'!B14*'MÜFREDAT-PÇ'!P17 -> 180.1 | G14: ='Ders Değerlendirme'!B14*'MÜFREDAT-PÇ'!Q17 -> 180.1 | H14: ='Ders Değerlendirme'!B14*'MÜFREDAT-PÇ'!R17 -> 180.1 | I14: ='Ders Değerlendirme'!B14*'MÜFREDAT-PÇ'!S17 -> 180.1 | J14: ='Ders Değerlendirme'!B14*'MÜFREDAT-PÇ'!T17 -> 90.05 | K14: ='Ders Değerlendirme'!B14*'MÜFREDAT-PÇ'!U17 -> 90.05
A15: KENDİNİ TANIMA VE ETKİLİ İLETİŞİM YÖNTEMLERİ | B15: ='Ders Değerlendirme'!B15*'MÜFREDAT-PÇ'!L18 -> 222.125 | C15: ='Ders Değerlendirme'!B15*'MÜFREDAT-PÇ'!M18 -> 177.7 | D15: ='Ders Değerlendirme'!B15*'MÜFREDAT-PÇ'!N18 -> 266.55 | E15: ='Ders Değerlendirme'!B15*'MÜFREDAT-PÇ'!O18 -> 244.3375 | F15: ='Ders Değerlendirme'!B15*'MÜFREDAT-PÇ'!P18 -> 244.3375 | G15: ='Ders Değerlendirme'!B15*'MÜFREDAT-PÇ'!Q18 -> 222.125 | H15: ='Ders Değerlendirme'!B15*'MÜFREDAT-PÇ'!R18 -> 266.55 | I15: ='Ders Değerlendirme'!B15*'MÜFREDAT-PÇ'!S18 -> 177.7 | J15: ='Ders Değerlendirme'!B15*'MÜFREDAT-PÇ'!T18 -> 244.3375 | K15: ='Ders Değerlendirme'!B15*'MÜFREDAT-PÇ'!U18 -> 244.3375
A16: YABANCI DİL II | B16: ='Ders Değerlendirme'!B16*'MÜFREDAT-PÇ'!L19 -> 75.98 | C16: ='Ders Değerlendirme'!B16*'MÜFREDAT-PÇ'!M19 -> 75.98 | D16: ='Ders Değerlendirme'!B16*'MÜFREDAT-PÇ'!N19 -> 75.98 | E16: ='Ders Değerlendirme'!B16*'MÜFREDAT-PÇ'!O19 -> 75.98 | F16: ='Ders Değerlendirme'!B16*'MÜFREDAT-PÇ'!P19 -> 75.98 | G16: ='Ders Değerlendirme'!B16*'MÜFREDAT-PÇ'!Q19 -> 227.94 | H16: ='Ders Değerlendirme'!B16*'MÜFREDAT-PÇ'!R19 -> 75.98 | I16: ='Ders Değerlendirme'!B16*'MÜFREDAT-PÇ'!S19 -> 75.98 | J16: ='Ders Değerlendirme'!B16*'MÜFREDAT-PÇ'!T19 -> 75.98 | K16: ='Ders Değerlendirme'!B16*'MÜFREDAT-PÇ'!U19 -> 227.94
A17: ATATÜRK İLKELERİ VE İNKILAP TARİHİ II | B17: ='Ders Değerlendirme'!B17*'MÜFREDAT-PÇ'!L20 -> 157.5 | C17: ='Ders Değerlendirme'!B17*'MÜFREDAT-PÇ'!M20 -> 236.25 | D17: ='Ders Değerlendirme'!B17*'MÜFREDAT-PÇ'!N20 -> 157.5 | E17: ='Ders Değerlendirme'!B17*'MÜFREDAT-PÇ'!O20 -> 157.5 | F17: ='Ders Değerlendirme'!B17*'MÜFREDAT-PÇ'!P20 -> 78.75 | G17: ='Ders Değerlendirme'!B17*'MÜFREDAT-PÇ'!Q20 -> 78.75 | H17: ='Ders Değerlendirme'!B17*'MÜFREDAT-PÇ'!R20 -> 78.75 | I17: ='Ders Değerlendirme'!B17*'MÜFREDAT-PÇ'!S20 -> 78.75 | J17: ='Ders Değerlendirme'!B17*'MÜFREDAT-PÇ'!T20 -> 78.75 | K17: ='Ders Değerlendirme'!B17*'MÜFREDAT-PÇ'!U20 -> 78.75
A18: HEMŞİRELİK ESASLARI | B18: ='Ders Değerlendirme'!B18*'MÜFREDAT-PÇ'!L21 -> 228.18 | C18: ='Ders Değerlendirme'!B18*'MÜFREDAT-PÇ'!M21 -> 228.18 | D18: ='Ders Değerlendirme'!B18*'MÜFREDAT-PÇ'!N21 -> 152.12 | E18: ='Ders Değerlendirme'!B18*'MÜFREDAT-PÇ'!O21 -> 228.18 | F18: ='Ders Değerlendirme'!B18*'MÜFREDAT-PÇ'!P21 -> 228.18 | G18: ='Ders Değerlendirme'!B18*'MÜFREDAT-PÇ'!Q21 -> 76.06 | H18: ='Ders Değerlendirme'!B18*'MÜFREDAT-PÇ'!R21 -> 76.06 | I18: ='Ders Değerlendirme'!B18*'MÜFREDAT-PÇ'!S21 -> 152.12 | J18: ='Ders Değerlendirme'!B18*'MÜFREDAT-PÇ'!T21 -> 152.12 | K18: ='Ders Değerlendirme'!B18*'MÜFREDAT-PÇ'!U21 -> 152.12
A19: MİKROBİYOLOJİ/PARAZİTOLOJİ | B19: ='Ders Değerlendirme'!B19*'MÜFREDAT-PÇ'!L22 -> 169.07 | C19: ='Ders Değerlendirme'!B19*'MÜFREDAT-PÇ'!M22 -> 153.7 | D19: ='Ders Değerlendirme'!B19*'MÜFREDAT-PÇ'!N22 -> 138.33 | E19: ='Ders Değerlendirme'!B19*'MÜFREDAT-PÇ'!O22 -> 122.96 | F19: ='Ders Değerlendirme'!B19*'MÜFREDAT-PÇ'!P22 -> 122.96 | G19: ='Ders Değerlendirme'!B19*'MÜFREDAT-PÇ'!Q22 -> 76.85 | H19: ='Ders Değerlendirme'!B19*'MÜFREDAT-PÇ'!R22 -> 76.85 | I19: ='Ders Değerlendirme'!B19*'MÜFREDAT-PÇ'!S22 -> 76.85 | J19: ='Ders Değerlendirme'!B19*'MÜFREDAT-PÇ'!T22 -> 61.48 | K19: ='Ders Değerlendirme'!B19*'MÜFREDAT-PÇ'!U22 -> 61.48
A20: TÜRK DİLİ II | B20: ='Ders Değerlendirme'!B20*'MÜFREDAT-PÇ'!L23 -> 248.55 | C20: ='Ders Değerlendirme'!B20*'MÜFREDAT-PÇ'!M23 -> 82.85 | D20: ='Ders Değerlendirme'!B20*'MÜFREDAT-PÇ'!N23 -> 165.7 | E20: ='Ders Değerlendirme'!B20*'MÜFREDAT-PÇ'!O23 -> 248.55 | F20: ='Ders Değerlendirme'!B20*'MÜFREDAT-PÇ'!P23 -> 248.55 | G20: ='Ders Değerlendirme'!B20*'MÜFREDAT-PÇ'!Q23 -> 248.55 | H20: ='Ders Değerlendirme'!B20*'MÜFREDAT-PÇ'!R23 -> 82.85 | I20: ='Ders Değerlendirme'!B20*'MÜFREDAT-PÇ'!S23 -> 82.85 | J20: ='Ders Değerlendirme'!B20*'MÜFREDAT-PÇ'!T23 -> 82.85 | K20: ='Ders Değerlendirme'!B20*'MÜFREDAT-PÇ'!U23 -> 82.85
A21: ORTAK SEÇMELİ DERS
A22: YAPAY ZEKA GİRİŞ | B22: ='Ders Değerlendirme'!B22*'MÜFREDAT-PÇ'!L25 -> 97.83 | C22: ='Ders Değerlendirme'!B22*'MÜFREDAT-PÇ'!M25 -> 97.83 | D22: ='Ders Değerlendirme'!B22*'MÜFREDAT-PÇ'!N25 -> 97.83 | E22: ='Ders Değerlendirme'!B22*'MÜFREDAT-PÇ'!O25 -> 97.83 | F22: ='Ders Değerlendirme'!B22*'MÜFREDAT-PÇ'!P25 -> 97.83 | G22: ='Ders Değerlendirme'!B22*'MÜFREDAT-PÇ'!Q25 -> 97.83 | H22: ='Ders Değerlendirme'!B22*'MÜFREDAT-PÇ'!R25 -> 97.83 | I22: ='Ders Değerlendirme'!B22*'MÜFREDAT-PÇ'!S25 -> 97.83 | J22: ='Ders Değerlendirme'!B22*'MÜFREDAT-PÇ'!T25 -> 97.83 | K22: ='Ders Değerlendirme'!B22*'MÜFREDAT-PÇ'!U25 -> 97.83
A23: SEÇMELİ DERS
A24: Beden Dili ve Etkili İletişim | B24: ='Ders Değerlendirme'!B24*'MÜFREDAT-PÇ'!L27 -> 236.61 | C24: ='Ders Değerlendirme'!B24*'MÜFREDAT-PÇ'!M27 -> 157.74 | D24: ='Ders Değerlendirme'!B24*'MÜFREDAT-PÇ'!N27 -> 157.74 | E24: ='Ders Değerlendirme'!B24*'MÜFREDAT-PÇ'!O27 -> 157.74 | F24: ='Ders Değerlendirme'!B24*'MÜFREDAT-PÇ'!P27 -> 157.74 | G24: ='Ders Değerlendirme'!B24*'MÜFREDAT-PÇ'!Q27 -> 157.74 | H24: ='Ders Değerlendirme'!B24*'MÜFREDAT-PÇ'!R27 -> 157.74 | I24: ='Ders Değerlendirme'!B24*'MÜFREDAT-PÇ'!S27 -> 236.61 | J24: ='Ders Değerlendirme'!B24*'MÜFREDAT-PÇ'!T27 -> 157.74 | K24: ='Ders Değerlendirme'!B24*'MÜFREDAT-PÇ'!U27 -> 236.61
A25: TOPLUMSAL DUYARLILIK | B25: ='Ders Değerlendirme'!B25*'MÜFREDAT-PÇ'!L28 -> 109.44 | C25: ='Ders Değerlendirme'!B25*'MÜFREDAT-PÇ'!M28 -> 127.68 | D25: ='Ders Değerlendirme'!B25*'MÜFREDAT-PÇ'!N28 -> 91.2 | E25: ='Ders Değerlendirme'!B25*'MÜFREDAT-PÇ'!O28 -> 127.68 | F25: ='Ders Değerlendirme'!B25*'MÜFREDAT-PÇ'!P28 -> 127.68 | G25: ='Ders Değerlendirme'!B25*'MÜFREDAT-PÇ'!Q28 -> 91.2 | H25: ='Ders Değerlendirme'!B25*'MÜFREDAT-PÇ'!R28 -> 109.44 | I25: ='Ders Değerlendirme'!B25*'MÜFREDAT-PÇ'!S28 -> 127.68 | J25: ='Ders Değerlendirme'!B25*'MÜFREDAT-PÇ'!T28 -> 91.2 | K25: ='Ders Değerlendirme'!B25*'MÜFREDAT-PÇ'!U28 -> 127.68
A26: BAĞIMLILIK VE HEMŞİRELİK | B26: ='Ders Değerlendirme'!B26*'MÜFREDAT-PÇ'!L29 -> 217.35 | C26: ='Ders Değerlendirme'!B26*'MÜFREDAT-PÇ'!M29 -> 144.9 | D26: ='Ders Değerlendirme'!B26*'MÜFREDAT-PÇ'!N29 -> 144.9 | E26: ='Ders Değerlendirme'!B26*'MÜFREDAT-PÇ'!O29 -> 144.9 | F26: ='Ders Değerlendirme'!B26*'MÜFREDAT-PÇ'!P29 -> 144.9 | G26: ='Ders Değerlendirme'!B26*'MÜFREDAT-PÇ'!Q29 -> 144.9 | H26: ='Ders Değerlendirme'!B26*'MÜFREDAT-PÇ'!R29 -> 72.45 | I26: ='Ders Değerlendirme'!B26*'MÜFREDAT-PÇ'!S29 -> 144.9 | J26: ='Ders Değerlendirme'!B26*'MÜFREDAT-PÇ'!T29 -> 72.45 | K26: ='Ders Değerlendirme'!B26*'MÜFREDAT-PÇ'!U29 -> 217.35
A27: TEMEL BİLGİ VE İLETİŞİM TEKNOLOJİSİ KULLANIMI | B27: ='Ders Değerlendirme'!B27*'MÜFREDAT-PÇ'!L30 -> 92.44 | C27: ='Ders Değerlendirme'!B27*'MÜFREDAT-PÇ'!M30 -> 92.44 | D27: ='Ders Değerlendirme'!B27*'MÜFREDAT-PÇ'!N30 -> 184.88 | E27: ='Ders Değerlendirme'!B27*'MÜFREDAT-PÇ'!O30 -> 184.88 | F27: ='Ders Değerlendirme'!B27*'MÜFREDAT-PÇ'!P30 -> 184.88 | G27: ='Ders Değerlendirme'!B27*'MÜFREDAT-PÇ'!Q30 -> 184.88 | H27: ='Ders Değerlendirme'!B27*'MÜFREDAT-PÇ'!R30 -> 92.44 | I27: ='Ders Değerlendirme'!B27*'MÜFREDAT-PÇ'!S30 -> 92.44 | J27: ='Ders Değerlendirme'!B27*'MÜFREDAT-PÇ'!T30 -> 184.88 | K27: ='Ders Değerlendirme'!B27*'MÜFREDAT-PÇ'!U30 -> 277.32
A28: PATOLOJİ | B28: ='Ders Değerlendirme'!B28*'MÜFREDAT-PÇ'!L31 -> 240 | C28: ='Ders Değerlendirme'!B28*'MÜFREDAT-PÇ'!M31 -> 200 | D28: ='Ders Değerlendirme'!B28*'MÜFREDAT-PÇ'!N31 -> 180 | E28: ='Ders Değerlendirme'!B28*'MÜFREDAT-PÇ'!O31 -> 220 | F28: ='Ders Değerlendirme'!B28*'MÜFREDAT-PÇ'!P31 -> 140 | G28: ='Ders Değerlendirme'!B28*'MÜFREDAT-PÇ'!Q31 -> 160 | H28: ='Ders Değerlendirme'!B28*'MÜFREDAT-PÇ'!R31 -> 100 | I28: ='Ders Değerlendirme'!B28*'MÜFREDAT-PÇ'!S31 -> 140 | J28: ='Ders Değerlendirme'!B28*'MÜFREDAT-PÇ'!T31 -> 100 | K28: ='Ders Değerlendirme'!B28*'MÜFREDAT-PÇ'!U31 -> 100
A29: FARMAKOLOJİ | B29: ='Ders Değerlendirme'!B29*'MÜFREDAT-PÇ'!L32 -> 214.35 | C29: ='Ders Değerlendirme'!B29*'MÜFREDAT-PÇ'!M32 -> 142.9 | D29: ='Ders Değerlendirme'!B29*'MÜFREDAT-PÇ'!N32 -> 142.9 | E29: ='Ders Değerlendirme'!B29*'MÜFREDAT-PÇ'!O32 -> 142.9 | F29: ='Ders Değerlendirme'!B29*'MÜFREDAT-PÇ'!P32 -> 142.9 | G29: ='Ders Değerlendirme'!B29*'MÜFREDAT-PÇ'!Q32 -> 142.9 | H29: ='Ders Değerlendirme'!B29*'MÜFREDAT-PÇ'!R32 -> 71.45 | I29: ='Ders Değerlendirme'!B29*'MÜFREDAT-PÇ'!S32 -> 214.35 | J29: ='Ders Değerlendirme'!B29*'MÜFREDAT-PÇ'!T32 -> 71.45 | K29: ='Ders Değerlendirme'!B29*'MÜFREDAT-PÇ'!U32 -> 71.45
A30: İÇ HASTALIKLARI HEMŞİRELİĞİ | B30: ='Ders Değerlendirme'!B30*'MÜFREDAT-PÇ'!L33 -> 198.72 | C30: ='Ders Değerlendirme'!B30*'MÜFREDAT-PÇ'!M33 -> 185.472 | D30: ='Ders Değerlendirme'!B30*'MÜFREDAT-PÇ'!N33 -> 158.976 | E30: ='Ders Değerlendirme'!B30*'MÜFREDAT-PÇ'!O33 -> 185.472 | F30: ='Ders Değerlendirme'!B30*'MÜFREDAT-PÇ'!P33 -> 119.232 | G30: ='Ders Değerlendirme'!B30*'MÜFREDAT-PÇ'!Q33 -> 132.48 | H30: ='Ders Değerlendirme'!B30*'MÜFREDAT-PÇ'!R33 -> 66.24 | I30: ='Ders Değerlendirme'!B30*'MÜFREDAT-PÇ'!S33 -> 119.232 | J30: ='Ders Değerlendirme'!B30*'MÜFREDAT-PÇ'!T33 -> 92.736 | K30: ='Ders Değerlendirme'!B30*'MÜFREDAT-PÇ'!U33 -> 105.984
A31: CERRAHİ HASTALIKLAR HEMŞİRELİĞİ | B31: ='Ders Değerlendirme'!B31*'MÜFREDAT-PÇ'!L34 -> 233.07 | C31: ='Ders Değerlendirme'!B31*'MÜFREDAT-PÇ'!M34 -> 170.918 | D31: ='Ders Değerlendirme'!B31*'MÜFREDAT-PÇ'!N34 -> 186.456 | E31: ='Ders Değerlendirme'!B31*'MÜFREDAT-PÇ'!O34 -> 155.38 | F31: ='Ders Değerlendirme'!B31*'MÜFREDAT-PÇ'!P34 -> 155.38 | G31: ='Ders Değerlendirme'!B31*'MÜFREDAT-PÇ'!Q34 -> 108.766 | H31: ='Ders Değerlendirme'!B31*'MÜFREDAT-PÇ'!R34 -> 170.918 | I31: ='Ders Değerlendirme'!B31*'MÜFREDAT-PÇ'!S34 -> 170.918 | J31: ='Ders Değerlendirme'!B31*'MÜFREDAT-PÇ'!T34 -> 77.69 | K31: ='Ders Değerlendirme'!B31*'MÜFREDAT-PÇ'!U34 -> 77.69
A32: MESLEKİ İNGİLİZCE I | B32: ='Ders Değerlendirme'!B32*'MÜFREDAT-PÇ'!L35 -> 79 | C32: ='Ders Değerlendirme'!B32*'MÜFREDAT-PÇ'!M35 -> 79 | D32: ='Ders Değerlendirme'!B32*'MÜFREDAT-PÇ'!N35 -> 79 | E32: ='Ders Değerlendirme'!B32*'MÜFREDAT-PÇ'!O35 -> 79 | F32: ='Ders Değerlendirme'!B32*'MÜFREDAT-PÇ'!P35 -> 79 | G32: ='Ders Değerlendirme'!B32*'MÜFREDAT-PÇ'!Q35 -> 158 | H32: ='Ders Değerlendirme'!B32*'MÜFREDAT-PÇ'!R35 -> 79 | I32: ='Ders Değerlendirme'!B32*'MÜFREDAT-PÇ'!S35 -> 79 | J32: ='Ders Değerlendirme'!B32*'MÜFREDAT-PÇ'!T35 -> 79 | K32: ='Ders Değerlendirme'!B32*'MÜFREDAT-PÇ'!U35 -> 237
A33: SEÇMELİ DERS
A34: Palyatif Bakım | B34: ='Ders Değerlendirme'!B34*'MÜFREDAT-PÇ'!L37 -> 151.56 | C34: ='Ders Değerlendirme'!B34*'MÜFREDAT-PÇ'!M37 -> 117.88 | D34: ='Ders Değerlendirme'!B34*'MÜFREDAT-PÇ'!N37 -> 252.6 | E34: ='Ders Değerlendirme'!B34*'MÜFREDAT-PÇ'!O37 -> 235.76 | F34: ='Ders Değerlendirme'!B34*'MÜFREDAT-PÇ'!P37 -> 252.6 | G34: ='Ders Değerlendirme'!B34*'MÜFREDAT-PÇ'!Q37 -> 252.6 | H34: ='Ders Değerlendirme'!B34*'MÜFREDAT-PÇ'!R37 -> 252.6 | I34: ='Ders Değerlendirme'!B34*'MÜFREDAT-PÇ'!S37 -> 252.6 | J34: ='Ders Değerlendirme'!B34*'MÜFREDAT-PÇ'!T37 -> 218.92 | K34: ='Ders Değerlendirme'!B34*'MÜFREDAT-PÇ'!U37 -> 202.08
A35: Onkoloji Hemşireliği | B35: ='Ders Değerlendirme'!B35*'MÜFREDAT-PÇ'!L38 -> 126.3 | C35: ='Ders Değerlendirme'!B35*'MÜFREDAT-PÇ'!M38 -> 126.3 | D35: ='Ders Değerlendirme'!B35*'MÜFREDAT-PÇ'!N38 -> 109.46 | E35: ='Ders Değerlendirme'!B35*'MÜFREDAT-PÇ'!O38 -> 126.3 | F35: ='Ders Değerlendirme'!B35*'MÜFREDAT-PÇ'!P38 -> 168.4 | G35: ='Ders Değerlendirme'!B35*'MÜFREDAT-PÇ'!Q38 -> 109.46 | H35: ='Ders Değerlendirme'!B35*'MÜFREDAT-PÇ'!R38 -> 84.2 | I35: ='Ders Değerlendirme'!B35*'MÜFREDAT-PÇ'!S38 -> 151.56 | J35: ='Ders Değerlendirme'!B35*'MÜFREDAT-PÇ'!T38 -> 84.2 | K35: ='Ders Değerlendirme'!B35*'MÜFREDAT-PÇ'!U38 -> 84.2
A36: Ağrı ve Ağrı Kesiciler | B36: ='Ders Değerlendirme'!B36*'MÜFREDAT-PÇ'!L39 -> 234.6 | C36: ='Ders Değerlendirme'!B36*'MÜFREDAT-PÇ'!M39 -> 211.14 | D36: ='Ders Değerlendirme'!B36*'MÜFREDAT-PÇ'!N39 -> 172.04 | E36: ='Ders Değerlendirme'!B36*'MÜFREDAT-PÇ'!O39 -> 195.5 | F36: ='Ders Değerlendirme'!B36*'MÜFREDAT-PÇ'!P39 -> 132.94 | G36: ='Ders Değerlendirme'!B36*'MÜFREDAT-PÇ'!Q39 -> 195.5 | H36: ='Ders Değerlendirme'!B36*'MÜFREDAT-PÇ'!R39 -> 78.2 | I36: ='Ders Değerlendirme'!B36*'MÜFREDAT-PÇ'!S39 -> 132.94 | J36: ='Ders Değerlendirme'!B36*'MÜFREDAT-PÇ'!T39 -> 78.2 | K36: ='Ders Değerlendirme'!B36*'MÜFREDAT-PÇ'!U39 -> 156.4
A37: Hemşirelikte İnovasyon | B37: ='Ders Değerlendirme'!B37*'MÜFREDAT-PÇ'!L40 -> 106.54 | C37: ='Ders Değerlendirme'!B37*'MÜFREDAT-PÇ'!M40 -> 182.64 | D37: ='Ders Değerlendirme'!B37*'MÜFREDAT-PÇ'!N40 -> 228.3 | E37: ='Ders Değerlendirme'!B37*'MÜFREDAT-PÇ'!O40 -> 213.08 | F37: ='Ders Değerlendirme'!B37*'MÜFREDAT-PÇ'!P40 -> 228.3 | G37: ='Ders Değerlendirme'!B37*'MÜFREDAT-PÇ'!Q40 -> 213.08 | H37: ='Ders Değerlendirme'!B37*'MÜFREDAT-PÇ'!R40 -> 213.08 | I37: ='Ders Değerlendirme'!B37*'MÜFREDAT-PÇ'!S40 -> 228.3 | J37: ='Ders Değerlendirme'!B37*'MÜFREDAT-PÇ'!T40 -> 228.3 | K37: ='Ders Değerlendirme'!B37*'MÜFREDAT-PÇ'!U40 -> 228.3
A38: MESLEKİ İNGİLİZCE II | B38: ='Ders Değerlendirme'!B38*'MÜFREDAT-PÇ'!L41 -> 68.67 | C38: ='Ders Değerlendirme'!B38*'MÜFREDAT-PÇ'!M41 -> 68.67 | D38: ='Ders Değerlendirme'!B38*'MÜFREDAT-PÇ'!N41 -> 68.67 | E38: ='Ders Değerlendirme'!B38*'MÜFREDAT-PÇ'!O41 -> 68.67 | F38: ='Ders Değerlendirme'!B38*'MÜFREDAT-PÇ'!P41 -> 68.67 | G38: ='Ders Değerlendirme'!B38*'MÜFREDAT-PÇ'!Q41 -> 137.34 | H38: ='Ders Değerlendirme'!B38*'MÜFREDAT-PÇ'!R41 -> 68.67 | I38: ='Ders Değerlendirme'!B38*'MÜFREDAT-PÇ'!S41 -> 68.67 | J38: ='Ders Değerlendirme'!B38*'MÜFREDAT-PÇ'!T41 -> 68.67 | K38: ='Ders Değerlendirme'!B38*'MÜFREDAT-PÇ'!U41 -> 206.01
A39: DOĞUM, KADIN SAĞLIĞI VE HASTALIKLARI HEMŞİRELİĞİ | B39: ='Ders Değerlendirme'!B39*'MÜFREDAT-PÇ'!L42 -> 217.8 | C39: ='Ders Değerlendirme'!B39*'MÜFREDAT-PÇ'!M42 -> 188.76 | D39: ='Ders Değerlendirme'!B39*'MÜFREDAT-PÇ'!N42 -> 203.28 | E39: ='Ders Değerlendirme'!B39*'MÜFREDAT-PÇ'!O42 -> 217.8 | F39: ='Ders Değerlendirme'!B39*'MÜFREDAT-PÇ'!P42 -> 145.2 | G39: ='Ders Değerlendirme'!B39*'MÜFREDAT-PÇ'!Q42 -> 159.72 | H39: ='Ders Değerlendirme'!B39*'MÜFREDAT-PÇ'!R42 -> 145.2 | I39: ='Ders Değerlendirme'!B39*'MÜFREDAT-PÇ'!S42 -> 159.72 | J39: ='Ders Değerlendirme'!B39*'MÜFREDAT-PÇ'!T42 -> 174.24 | K39: ='Ders Değerlendirme'!B39*'MÜFREDAT-PÇ'!U42 -> 203.28
A40: ÇOCUK SAĞLIĞI VE HASTALIKLARI HEMŞİRELİĞİ | B40: ='Ders Değerlendirme'!B40*'MÜFREDAT-PÇ'!L43 -> 195 | C40: ='Ders Değerlendirme'!B40*'MÜFREDAT-PÇ'!M43 -> 195 | D40: ='Ders Değerlendirme'!B40*'MÜFREDAT-PÇ'!N43 -> 130 | E40: ='Ders Değerlendirme'!B40*'MÜFREDAT-PÇ'!O43 -> 195 | F40: ='Ders Değerlendirme'!B40*'MÜFREDAT-PÇ'!P43 -> 65 | G40: ='Ders Değerlendirme'!B40*'MÜFREDAT-PÇ'!Q43 -> 65 | H40: ='Ders Değerlendirme'!B40*'MÜFREDAT-PÇ'!R43 -> 130 | I40: ='Ders Değerlendirme'!B40*'MÜFREDAT-PÇ'!S43 -> 130 | J40: ='Ders Değerlendirme'!B40*'MÜFREDAT-PÇ'!T43 -> 65 | K40: ='Ders Değerlendirme'!B40*'MÜFREDAT-PÇ'!U43 -> 130
A41: ENFEKSİYON HASTALIKLARINDA BAKIM | B41: ='Ders Değerlendirme'!B41*'MÜFREDAT-PÇ'!L44 -> 199.68 | C41: ='Ders Değerlendirme'!B41*'MÜFREDAT-PÇ'!M44 -> 199.68 | D41: ='Ders Değerlendirme'!B41*'MÜFREDAT-PÇ'!N44 -> 168.96 | E41: ='Ders Değerlendirme'!B41*'MÜFREDAT-PÇ'!O44 -> 168.96 | F41: ='Ders Değerlendirme'!B41*'MÜFREDAT-PÇ'!P44 -> 199.68 | G41: ='Ders Değerlendirme'!B41*'MÜFREDAT-PÇ'!Q44 -> 153.6 | H41: ='Ders Değerlendirme'!B41*'MÜFREDAT-PÇ'!R44 -> 76.8 | I41: ='Ders Değerlendirme'!B41*'MÜFREDAT-PÇ'!S44 -> 138.24 | J41: ='Ders Değerlendirme'!B41*'MÜFREDAT-PÇ'!T44 -> 138.24 | K41: ='Ders Değerlendirme'!B41*'MÜFREDAT-PÇ'!U44 -> 76.8
A42: SEÇMELİ DERS
A43: HEMŞİRELİKTE ETİK VE DEĞERLER | B43: ='Ders Değerlendirme'!B43*'MÜFREDAT-PÇ'!L46 -> 218.575 | C43: ='Ders Değerlendirme'!B43*'MÜFREDAT-PÇ'!M46 -> 153.0025 | D43: ='Ders Değerlendirme'!B43*'MÜFREDAT-PÇ'!N46 -> 262.29 | E43: ='Ders Değerlendirme'!B43*'MÜFREDAT-PÇ'!O46 -> 218.575 | F43: ='Ders Değerlendirme'!B43*'MÜFREDAT-PÇ'!P46 -> 131.145 | G43: ='Ders Değerlendirme'!B43*'MÜFREDAT-PÇ'!Q46 -> 218.575 | H43: ='Ders Değerlendirme'!B43*'MÜFREDAT-PÇ'!R46 -> 87.43 | I43: ='Ders Değerlendirme'!B43*'MÜFREDAT-PÇ'!S46 -> 65.5725 | J43: ='Ders Değerlendirme'!B43*'MÜFREDAT-PÇ'!T46 -> 87.43 | K43: ='Ders Değerlendirme'!B43*'MÜFREDAT-PÇ'!U46 -> 174.86
A44: JİNEKOLOJİK ONKOLOJİ | B44: ='Ders Değerlendirme'!B44*'MÜFREDAT-PÇ'!L47 -> 236.34 | C44: ='Ders Değerlendirme'!B44*'MÜFREDAT-PÇ'!M47 -> 78.78 | D44: ='Ders Değerlendirme'!B44*'MÜFREDAT-PÇ'!N47 -> 78.78 | E44: ='Ders Değerlendirme'!B44*'MÜFREDAT-PÇ'!O47 -> 78.78 | F44: ='Ders Değerlendirme'!B44*'MÜFREDAT-PÇ'!P47 -> 78.78 | G44: ='Ders Değerlendirme'!B44*'MÜFREDAT-PÇ'!Q47 -> 78.78 | H44: ='Ders Değerlendirme'!B44*'MÜFREDAT-PÇ'!R47 -> 78.78 | I44: ='Ders Değerlendirme'!B44*'MÜFREDAT-PÇ'!S47 -> 157.56 | J44: ='Ders Değerlendirme'!B44*'MÜFREDAT-PÇ'!T47 -> 78.78 | K44: ='Ders Değerlendirme'!B44*'MÜFREDAT-PÇ'!U47 -> 78.78
A45: EPİDEMİYOLOJİ | B45: ='Ders Değerlendirme'!B45*'MÜFREDAT-PÇ'!L48 -> 229.17 | C45: ='Ders Değerlendirme'!B45*'MÜFREDAT-PÇ'!M48 -> 190.975 | D45: ='Ders Değerlendirme'!B45*'MÜFREDAT-PÇ'!N48 -> 152.78 | E45: ='Ders Değerlendirme'!B45*'MÜFREDAT-PÇ'!O48 -> 190.975 | F45: ='Ders Değerlendirme'!B45*'MÜFREDAT-PÇ'!P48 -> 190.975 | G45: ='Ders Değerlendirme'!B45*'MÜFREDAT-PÇ'!Q48 -> 152.78 | H45: ='Ders Değerlendirme'!B45*'MÜFREDAT-PÇ'!R48 -> 76.39 | I45: ='Ders Değerlendirme'!B45*'MÜFREDAT-PÇ'!S48 -> 133.6825 | J45: ='Ders Değerlendirme'!B45*'MÜFREDAT-PÇ'!T48 -> 114.585 | K45: ='Ders Değerlendirme'!B45*'MÜFREDAT-PÇ'!U48 -> 76.39
A46: HEMŞİRELİKTE ARAŞTIRMA YÖNTEMLERİ | B46: ='Ders Değerlendirme'!B46*'MÜFREDAT-PÇ'!L49 -> 203.7 | C46: ='Ders Değerlendirme'!B46*'MÜFREDAT-PÇ'!M49 -> 84.875 | D46: ='Ders Değerlendirme'!B46*'MÜFREDAT-PÇ'!N49 -> 84.875 | E46: ='Ders Değerlendirme'!B46*'MÜFREDAT-PÇ'!O49 -> 203.7 | F46: ='Ders Değerlendirme'!B46*'MÜFREDAT-PÇ'!P49 -> 203.7 | G46: ='Ders Değerlendirme'!B46*'MÜFREDAT-PÇ'!Q49 -> 169.75 | H46: ='Ders Değerlendirme'!B46*'MÜFREDAT-PÇ'!R49 -> 67.9 | I46: ='Ders Değerlendirme'!B46*'MÜFREDAT-PÇ'!S49 -> 67.9 | J46: ='Ders Değerlendirme'!B46*'MÜFREDAT-PÇ'!T49 -> 67.9 | K46: ='Ders Değerlendirme'!B46*'MÜFREDAT-PÇ'!U49 -> 135.8
A47: HEMŞİRELİKTE ÖĞRETİM | B47: ='Ders Değerlendirme'!B47*'MÜFREDAT-PÇ'!L50 -> 158.62 | C47: ='Ders Değerlendirme'!B47*'MÜFREDAT-PÇ'!M50 -> 86.52 | D47: ='Ders Değerlendirme'!B47*'MÜFREDAT-PÇ'!N50 -> 115.36 | E47: ='Ders Değerlendirme'!B47*'MÜFREDAT-PÇ'!O50 -> 158.62 | F47: ='Ders Değerlendirme'!B47*'MÜFREDAT-PÇ'!P50 -> 173.04 | G47: ='Ders Değerlendirme'!B47*'MÜFREDAT-PÇ'!Q50 -> 144.2 | H47: ='Ders Değerlendirme'!B47*'MÜFREDAT-PÇ'!R50 -> 72.1 | I47: ='Ders Değerlendirme'!B47*'MÜFREDAT-PÇ'!S50 -> 86.52 | J47: ='Ders Değerlendirme'!B47*'MÜFREDAT-PÇ'!T50 -> 72.1 | K47: ='Ders Değerlendirme'!B47*'MÜFREDAT-PÇ'!U50 -> 100.94
A48: RUH SAĞLIĞI HASTALIKLARI HEMŞİRELİĞİ | B48: ='Ders Değerlendirme'!B48*'MÜFREDAT-PÇ'!L51 -> 193.11 | C48: ='Ders Değerlendirme'!B48*'MÜFREDAT-PÇ'!M51 -> 160.925 | D48: ='Ders Değerlendirme'!B48*'MÜFREDAT-PÇ'!N51 -> 160.925 | E48: ='Ders Değerlendirme'!B48*'MÜFREDAT-PÇ'!O51 -> 144.8325 | F48: ='Ders Değerlendirme'!B48*'MÜFREDAT-PÇ'!P51 -> 112.6475 | G48: ='Ders Değerlendirme'!B48*'MÜFREDAT-PÇ'!Q51 -> 96.555 | H48: ='Ders Değerlendirme'!B48*'MÜFREDAT-PÇ'!R51 -> 80.4625 | I48: ='Ders Değerlendirme'!B48*'MÜFREDAT-PÇ'!S51 -> 177.0175 | J48: ='Ders Değerlendirme'!B48*'MÜFREDAT-PÇ'!T51 -> 64.37 | K48: ='Ders Değerlendirme'!B48*'MÜFREDAT-PÇ'!U51 -> 144.8325
A49: ORTAK SEÇMELİ DERS
A50: YAŞAM BOYU SPOR | B50: ='Ders Değerlendirme'!B50*'MÜFREDAT-PÇ'!L53 -> 172.46 | C50: ='Ders Değerlendirme'!B50*'MÜFREDAT-PÇ'!M53 -> 215.575 | D50: ='Ders Değerlendirme'!B50*'MÜFREDAT-PÇ'!N53 -> 146.591 | E50: ='Ders Değerlendirme'!B50*'MÜFREDAT-PÇ'!O53 -> 172.46 | F50: ='Ders Değerlendirme'!B50*'MÜFREDAT-PÇ'!P53 -> 189.706 | G50: ='Ders Değerlendirme'!B50*'MÜFREDAT-PÇ'!Q53 -> 146.591 | H50: ='Ders Değerlendirme'!B50*'MÜFREDAT-PÇ'!R53 -> 107.7875 | I50: ='Ders Değerlendirme'!B50*'MÜFREDAT-PÇ'!S53 -> 146.591 | J50: ='Ders Değerlendirme'!B50*'MÜFREDAT-PÇ'!T53 -> 86.23 | K50: ='Ders Değerlendirme'!B50*'MÜFREDAT-PÇ'!U53 -> 86.23
A51: SEÇMELİ DERS
A52: KRONİK HASTALIKLAR VE YAŞAM KALİTESİ | B52: ='Ders Değerlendirme'!B52*'MÜFREDAT-PÇ'!L55 -> 255 | C52: ='Ders Değerlendirme'!B52*'MÜFREDAT-PÇ'!M55 -> 255 | D52: ='Ders Değerlendirme'!B52*'MÜFREDAT-PÇ'!N55 -> 255 | E52: ='Ders Değerlendirme'!B52*'MÜFREDAT-PÇ'!O55 -> 170 | F52: ='Ders Değerlendirme'!B52*'MÜFREDAT-PÇ'!P55 -> 170 | G52: ='Ders Değerlendirme'!B52*'MÜFREDAT-PÇ'!Q55 -> 170 | H52: ='Ders Değerlendirme'!B52*'MÜFREDAT-PÇ'!R55 -> 170 | I52: ='Ders Değerlendirme'!B52*'MÜFREDAT-PÇ'!S55 -> 170 | J52: ='Ders Değerlendirme'!B52*'MÜFREDAT-PÇ'!T55 -> 170 | K52: ='Ders Değerlendirme'!B52*'MÜFREDAT-PÇ'!U55 -> 85
A53: CİNSEL SAĞLIK/ÜREME SAĞLIĞI | B53: ='Ders Değerlendirme'!B53*'MÜFREDAT-PÇ'!L56 -> 210 | C53: ='Ders Değerlendirme'!B53*'MÜFREDAT-PÇ'!M56 -> 195 | D53: ='Ders Değerlendirme'!B53*'MÜFREDAT-PÇ'!N56 -> 225 | E53: ='Ders Değerlendirme'!B53*'MÜFREDAT-PÇ'!O56 -> 210 | F53: ='Ders Değerlendirme'!B53*'MÜFREDAT-PÇ'!P56 -> 195 | G53: ='Ders Değerlendirme'!B53*'MÜFREDAT-PÇ'!Q56 -> 150 | H53: ='Ders Değerlendirme'!B53*'MÜFREDAT-PÇ'!R56 -> 225 | I53: ='Ders Değerlendirme'!B53*'MÜFREDAT-PÇ'!S56 -> 210 | J53: ='Ders Değerlendirme'!B53*'MÜFREDAT-PÇ'!T56 -> 210 | K53: ='Ders Değerlendirme'!B53*'MÜFREDAT-PÇ'!U56 -> 225
A54: AMELİYATHANE HEMŞİRELİĞİ | B54: ='Ders Değerlendirme'!B54*'MÜFREDAT-PÇ'!L57 -> 183.6 | C54: ='Ders Değerlendirme'!B54*'MÜFREDAT-PÇ'!M57 -> 214.2 | D54: ='Ders Değerlendirme'!B54*'MÜFREDAT-PÇ'!N57 -> 107.1 | E54: ='Ders Değerlendirme'!B54*'MÜFREDAT-PÇ'!O57 -> 107.1 | F54: ='Ders Değerlendirme'!B54*'MÜFREDAT-PÇ'!P57 -> 107.1 | G54: ='Ders Değerlendirme'!B54*'MÜFREDAT-PÇ'!Q57 -> 76.5 | H54: ='Ders Değerlendirme'!B54*'MÜFREDAT-PÇ'!R57 -> 137.7 | I54: ='Ders Değerlendirme'!B54*'MÜFREDAT-PÇ'!S57 -> 122.4 | J54: ='Ders Değerlendirme'!B54*'MÜFREDAT-PÇ'!T57 -> 76.5 | K54: ='Ders Değerlendirme'!B54*'MÜFREDAT-PÇ'!U57 -> 91.8
A55: ANNE VE ÇOCUK BESLENMESİ | B55: ='Ders Değerlendirme'!B55*'MÜFREDAT-PÇ'!L58 -> 240.6 | C55: ='Ders Değerlendirme'!B55*'MÜFREDAT-PÇ'!M58 -> 140.35 | D55: ='Ders Değerlendirme'!B55*'MÜFREDAT-PÇ'!N58 -> 100.25 | E55: ='Ders Değerlendirme'!B55*'MÜFREDAT-PÇ'!O58 -> 200.5 | F55: ='Ders Değerlendirme'!B55*'MÜFREDAT-PÇ'!P58 -> 80.2 | G55: ='Ders Değerlendirme'!B55*'MÜFREDAT-PÇ'!Q58 -> 80.2 | H55: ='Ders Değerlendirme'!B55*'MÜFREDAT-PÇ'!R58 -> 80.2 | I55: ='Ders Değerlendirme'!B55*'MÜFREDAT-PÇ'!S58 -> 80.2 | J55: ='Ders Değerlendirme'!B55*'MÜFREDAT-PÇ'!T58 -> 80.2 | K55: ='Ders Değerlendirme'!B55*'MÜFREDAT-PÇ'!U58 -> 120.3
A56: HEMŞİRELİK TARİHİ VE DEONTOLOJİ | B56: ='Ders Değerlendirme'!B56*'MÜFREDAT-PÇ'!L59 -> 279 | C56: ='Ders Değerlendirme'!B56*'MÜFREDAT-PÇ'!M59 -> 204.6 | D56: ='Ders Değerlendirme'!B56*'MÜFREDAT-PÇ'!N59 -> 148.8 | E56: ='Ders Değerlendirme'!B56*'MÜFREDAT-PÇ'!O59 -> 279 | F56: ='Ders Değerlendirme'!B56*'MÜFREDAT-PÇ'!P59 -> 167.4 | G56: ='Ders Değerlendirme'!B56*'MÜFREDAT-PÇ'!Q59 -> 186 | H56: ='Ders Değerlendirme'!B56*'MÜFREDAT-PÇ'!R59 -> 93 | I56: ='Ders Değerlendirme'!B56*'MÜFREDAT-PÇ'!S59 -> 186 | J56: ='Ders Değerlendirme'!B56*'MÜFREDAT-PÇ'!T59 -> 93 | K56: ='Ders Değerlendirme'!B56*'MÜFREDAT-PÇ'!U59 -> 93
A57: HALK SAĞLIĞI HEMŞİRELİĞİ | B57: ='Ders Değerlendirme'!B57*'MÜFREDAT-PÇ'!L60 -> 136.34 | C57: ='Ders Değerlendirme'!B57*'MÜFREDAT-PÇ'!M60 -> 204.51 | D57: ='Ders Değerlendirme'!B57*'MÜFREDAT-PÇ'!N60 -> 136.34 | E57: ='Ders Değerlendirme'!B57*'MÜFREDAT-PÇ'!O60 -> 136.34 | F57: ='Ders Değerlendirme'!B57*'MÜFREDAT-PÇ'!P60 -> 136.34 | G57: ='Ders Değerlendirme'!B57*'MÜFREDAT-PÇ'!Q60 -> 136.34 | H57: ='Ders Değerlendirme'!B57*'MÜFREDAT-PÇ'!R60 -> 68.17 | I57: ='Ders Değerlendirme'!B57*'MÜFREDAT-PÇ'!S60 -> 136.34 | J57: ='Ders Değerlendirme'!B57*'MÜFREDAT-PÇ'!T60 -> 68.17 | K57: ='Ders Değerlendirme'!B57*'MÜFREDAT-PÇ'!U60 -> 136.34
A58: BİYOİSTATİSTİK | B58: ='Ders Değerlendirme'!B58*'MÜFREDAT-PÇ'!L61 -> 225.39 | C58: ='Ders Değerlendirme'!B58*'MÜFREDAT-PÇ'!M61 -> 150.26 | D58: ='Ders Değerlendirme'!B58*'MÜFREDAT-PÇ'!N61 -> 169.0425 | E58: ='Ders Değerlendirme'!B58*'MÜFREDAT-PÇ'!O61 -> 93.9125 | F58: ='Ders Değerlendirme'!B58*'MÜFREDAT-PÇ'!P61 -> 131.4775 | G58: ='Ders Değerlendirme'!B58*'MÜFREDAT-PÇ'!Q61 -> 75.13 | H58: ='Ders Değerlendirme'!B58*'MÜFREDAT-PÇ'!R61 -> 75.13 | I58: ='Ders Değerlendirme'!B58*'MÜFREDAT-PÇ'!S61 -> 75.13 | J58: ='Ders Değerlendirme'!B58*'MÜFREDAT-PÇ'!T61 -> 75.13 | K58: ='Ders Değerlendirme'!B58*'MÜFREDAT-PÇ'!U61 -> 75.13
A59: HEMŞİRELİKTE YÖNETİM | B59: ='Ders Değerlendirme'!B59*'MÜFREDAT-PÇ'!L62 -> 154 | C59: ='Ders Değerlendirme'!B59*'MÜFREDAT-PÇ'!M62 -> 107.8 | D59: ='Ders Değerlendirme'!B59*'MÜFREDAT-PÇ'!N62 -> 123.2 | E59: ='Ders Değerlendirme'!B59*'MÜFREDAT-PÇ'!O62 -> 123.2 | F59: ='Ders Değerlendirme'!B59*'MÜFREDAT-PÇ'!P62 -> 92.4 | G59: ='Ders Değerlendirme'!B59*'MÜFREDAT-PÇ'!Q62 -> 107.8 | H59: ='Ders Değerlendirme'!B59*'MÜFREDAT-PÇ'!R62 -> 138.6 | I59: ='Ders Değerlendirme'!B59*'MÜFREDAT-PÇ'!S62 -> 107.8 | J59: ='Ders Değerlendirme'!B59*'MÜFREDAT-PÇ'!T62 -> 138.6 | K59: ='Ders Değerlendirme'!B59*'MÜFREDAT-PÇ'!U62 -> 92.4
A60: İLK YARDIM | B60: ='Ders Değerlendirme'!B60*'MÜFREDAT-PÇ'!L63 -> 172.92 | C60: ='Ders Değerlendirme'!B60*'MÜFREDAT-PÇ'!M63 -> 110.04 | D60: ='Ders Değerlendirme'!B60*'MÜFREDAT-PÇ'!N63 -> 172.92 | E60: ='Ders Değerlendirme'!B60*'MÜFREDAT-PÇ'!O63 -> 157.2 | F60: ='Ders Değerlendirme'!B60*'MÜFREDAT-PÇ'!P63 -> 78.6 | G60: ='Ders Değerlendirme'!B60*'MÜFREDAT-PÇ'!Q63 -> 94.32 | H60: ='Ders Değerlendirme'!B60*'MÜFREDAT-PÇ'!R63 -> 110.04 | I60: ='Ders Değerlendirme'!B60*'MÜFREDAT-PÇ'!S63 -> 157.2 | J60: ='Ders Değerlendirme'!B60*'MÜFREDAT-PÇ'!T63 -> 78.6 | K60: ='Ders Değerlendirme'!B60*'MÜFREDAT-PÇ'!U63 -> 78.6
A61: SEÇMELİ DERS
A62: SEÇMELİ DERS
A63: KANITA DAYALI HEMŞİRELİK | B63: ='Ders Değerlendirme'!B63*'MÜFREDAT-PÇ'!L66 -> 245.58 | C63: ='Ders Değerlendirme'!B63*'MÜFREDAT-PÇ'!M66 -> 122.79 | D63: ='Ders Değerlendirme'!B63*'MÜFREDAT-PÇ'!N66 -> 81.86 | E63: ='Ders Değerlendirme'!B63*'MÜFREDAT-PÇ'!O66 -> 245.58 | F63: ='Ders Değerlendirme'!B63*'MÜFREDAT-PÇ'!P66 -> 204.65 | G63: ='Ders Değerlendirme'!B63*'MÜFREDAT-PÇ'!Q66 -> 204.65 | H63: ='Ders Değerlendirme'!B63*'MÜFREDAT-PÇ'!R66 -> 102.325 | I63: ='Ders Değerlendirme'!B63*'MÜFREDAT-PÇ'!S66 -> 61.395 | J63: ='Ders Değerlendirme'!B63*'MÜFREDAT-PÇ'!T66 -> 61.395 | K63: ='Ders Değerlendirme'!B63*'MÜFREDAT-PÇ'!U66 -> 61.395
A64: ERGEN SAĞLIĞI | B64: ='Ders Değerlendirme'!B64*'MÜFREDAT-PÇ'!L67 -> 229.77 | C64: ='Ders Değerlendirme'!B64*'MÜFREDAT-PÇ'!M67 -> 229.77 | D64: ='Ders Değerlendirme'!B64*'MÜFREDAT-PÇ'!N67 -> 229.77 | E64: ='Ders Değerlendirme'!B64*'MÜFREDAT-PÇ'!O67 -> 229.77 | F64: ='Ders Değerlendirme'!B64*'MÜFREDAT-PÇ'!P67 -> 229.77 | G64: ='Ders Değerlendirme'!B64*'MÜFREDAT-PÇ'!Q67 -> 229.77 | H64: ='Ders Değerlendirme'!B64*'MÜFREDAT-PÇ'!R67 -> 229.77 | I64: ='Ders Değerlendirme'!B64*'MÜFREDAT-PÇ'!S67 -> 229.77 | J64: ='Ders Değerlendirme'!B64*'MÜFREDAT-PÇ'!T67 -> 229.77 | K64: ='Ders Değerlendirme'!B64*'MÜFREDAT-PÇ'!U67 -> 229.77
A65: ÇOCUK ACİL VE YOĞUN BAKIM | B65: ='Ders Değerlendirme'!B65*'MÜFREDAT-PÇ'!L68 -> 163.42 | C65: ='Ders Değerlendirme'!B65*'MÜFREDAT-PÇ'!M68 -> 163.42 | D65: ='Ders Değerlendirme'!B65*'MÜFREDAT-PÇ'!N68 -> 163.42 | E65: ='Ders Değerlendirme'!B65*'MÜFREDAT-PÇ'!O68 -> 81.71 | F65: ='Ders Değerlendirme'!B65*'MÜFREDAT-PÇ'!P68 -> 81.71 | G65: ='Ders Değerlendirme'!B65*'MÜFREDAT-PÇ'!Q68 -> 81.71 | H65: ='Ders Değerlendirme'!B65*'MÜFREDAT-PÇ'!R68 -> 81.71 | I65: ='Ders Değerlendirme'!B65*'MÜFREDAT-PÇ'!S68 -> 81.71 | J65: ='Ders Değerlendirme'!B65*'MÜFREDAT-PÇ'!T68 -> 81.71 | K65: ='Ders Değerlendirme'!B65*'MÜFREDAT-PÇ'!U68 -> 81.71
A66: YENİDOĞAN VE HASTALIKLARI | B66: ='Ders Değerlendirme'!B66*'MÜFREDAT-PÇ'!L69 -> 291.66 | C66: ='Ders Değerlendirme'!B66*'MÜFREDAT-PÇ'!M69 -> 243.05 | D66: ='Ders Değerlendirme'!B66*'MÜFREDAT-PÇ'!N69 -> 243.05 | E66: ='Ders Değerlendirme'!B66*'MÜFREDAT-PÇ'!O69 -> 243.05 | F66: ='Ders Değerlendirme'!B66*'MÜFREDAT-PÇ'!P69 -> 243.05 | G66: ='Ders Değerlendirme'!B66*'MÜFREDAT-PÇ'!Q69 -> 170.135 | H66: ='Ders Değerlendirme'!B66*'MÜFREDAT-PÇ'!R69 -> 145.83 | I66: ='Ders Değerlendirme'!B66*'MÜFREDAT-PÇ'!S69 -> 97.22 | J66: ='Ders Değerlendirme'!B66*'MÜFREDAT-PÇ'!T69 -> 97.22 | K66: ='Ders Değerlendirme'!B66*'MÜFREDAT-PÇ'!U69 -> 97.22
A67: HEMŞİRELİK MESLEK UYGULAMALARI I | B67: ='Ders Değerlendirme'!B67*'MÜFREDAT-PÇ'!L70 -> 209.3 | C67: ='Ders Değerlendirme'!B67*'MÜFREDAT-PÇ'!M70 -> 263.9 | D67: ='Ders Değerlendirme'!B67*'MÜFREDAT-PÇ'!N70 -> 263.9 | E67: ='Ders Değerlendirme'!B67*'MÜFREDAT-PÇ'!O70 -> 263.9 | F67: ='Ders Değerlendirme'!B67*'MÜFREDAT-PÇ'!P70 -> 263.9 | G67: ='Ders Değerlendirme'!B67*'MÜFREDAT-PÇ'!Q70 -> 209.3 | H67: ='Ders Değerlendirme'!B67*'MÜFREDAT-PÇ'!R70 -> 172.9 | I67: ='Ders Değerlendirme'!B67*'MÜFREDAT-PÇ'!S70 -> 245.7 | J67: ='Ders Değerlendirme'!B67*'MÜFREDAT-PÇ'!T70 -> 172.9 | K67: ='Ders Değerlendirme'!B67*'MÜFREDAT-PÇ'!U70 -> 154.7
A68: HEMŞİRELİK MESLEK UYGULAMALARI II | B68: ='Ders Değerlendirme'!B68*'MÜFREDAT-PÇ'!L71 -> 227.75 | C68: ='Ders Değerlendirme'!B68*'MÜFREDAT-PÇ'!M71 -> 250.525 | D68: ='Ders Değerlendirme'!B68*'MÜFREDAT-PÇ'!N71 -> 227.75 | E68: ='Ders Değerlendirme'!B68*'MÜFREDAT-PÇ'!O71 -> 204.975 | F68: ='Ders Değerlendirme'!B68*'MÜFREDAT-PÇ'!P71 -> 68.325 | G68: ='Ders Değerlendirme'!B68*'MÜFREDAT-PÇ'!Q71 -> 136.65 | H68: ='Ders Değerlendirme'!B68*'MÜFREDAT-PÇ'!R71 -> 91.1 | I68: ='Ders Değerlendirme'!B68*'MÜFREDAT-PÇ'!S71 -> 159.425 | J68: ='Ders Değerlendirme'!B68*'MÜFREDAT-PÇ'!T71 -> 91.1 | K68: ='Ders Değerlendirme'!B68*'MÜFREDAT-PÇ'!U71 -> 136.65

Sheet İŞ YÜKÜ
A1: DERSLER | B1: AKTS | C1: HESAPLANAN | D1: FARK
A2: TÜRK DİLİ I | B2: 2 | C2: ='Ders Değerlendirme'!E2/30 -> 2.1666667 | D2: =ABS(B2-C2) -> 0.16666667
A3: HİSTOLOJİ | B3: 3 | C3: ='Ders Değerlendirme'!E3/30 -> 1.7333333 | D3: =ABS(B3-C3) -> 1.2666667
A4: BİYOKİMYA | B4: 3 | C4: ='Ders Değerlendirme'!E4/30 -> 2.1 | D4: =ABS(B4-C4) -> 0.9
A5: HEMŞİRELİĞE GİRİŞ | B5: 3 | C5: ='Ders Değerlendirme'!E5/30 -> 2.5833333 | D5: =ABS(B5-C5) -> 0.41666667
A6: ATATÜRK İLKELERİ VE İNKILAP TARİHİ I | B6: 2 | C6: ='Ders Değerlendirme'!E6/30 -> 2.1666667 | D6: =ABS(B6-C6) -> 0.16666667
A7: ANATOMİ | B7: 5 | C7: ='Ders Değerlendirme'!E7/30 -> 1.91 | D7: =ABS(B7-C7) -> 3.09
A8: KARİYER PLANLAMA | B8: 2 | C8: ='Ders Değerlendirme'!E8/30 -> 1.9 | D8: =ABS(B8-C8) -> 0.1
A9: FİZYOLOJİ | B9: 5 | C9: ='Ders Değerlendirme'!E9/30 -> 3.9666667 | D9: =ABS(B9-C9) -> 1.0333333
A10: YABANCI DİL I | B10: 5 | C10: ='Ders Değerlendirme'!E10/30 -> 2.7666667 | D10: =ABS(B10-C10) -> 2.2333333
A11: SEÇMELİ DERS | B11: 3 | C11: ='Ders Değerlendirme'!E11/30 -> 0 | D11: =ABS(B11-C11) -> 3
A12: Sağlık Sosyolojisi Ve Tıbbi Ant. | B12: 3 | C12: ='Ders Değerlendirme'!E12/30 -> 2.8 | D12: =ABS(B12-C12) -> 0.2
A13: Bilim Tarihi | B13: 3 | C13: ='Ders Değerlendirme'!E13/30 -> 2.7333333 | D13: =ABS(B13-C13) -> 0.26666667
... A54: AMELİYATHANE HEMŞİRELİĞİ | B54: 3 | C54: ='Ders Değerlendirme'!E54/30 -> 2.718 | D54: =ABS(B54-C54) -> 0.282
A55: ANNE VE ÇOCUK BESLENMESİ | C55: ='Ders Değerlendirme'!E55/30 -> 3.0333333 | D55: 0.3
A56: HEMŞİRELİK TARİHİ VE DEONTOLOJİ | B56: 3 | C56: ='Ders Değerlendirme'!E56/30 -> 2.8333333 | D56: =ABS(B56-C56) -> 0.16666667
A57: HALK SAĞLIĞI HEMŞİRELİĞİ | B57: 9 | C57: ='Ders Değerlendirme'!E57/30 -> 10.618667 | D57: =ABS(B57-C57) -> 1.6186667
A58: BİYOİSTATİSTİK | B58: 5 | C58: ='Ders Değerlendirme'!E58/30 -> 3.8983333 | D58: =ABS(B58-C58) -> 1.1016667
A59: HEMŞİRELİKTE YÖNETİM | B59: 5 | C59: ='Ders Değerlendirme'!E59/30 -> 3.2766667 | D59: =ABS(B59-C59) -> 1.7233333
A60: İLK YARDIM | B60: 5 | C60: ='Ders Değerlendirme'!E60/30 -> 3.023 | D60: =ABS(B60-C60) -> 1.977
A61: SEÇMELİ DERS | B61: 3 | C61: ='Ders Değerlendirme'!E44/30 -> 2.748 | D61: =ABS(B61-C61) -> 0.252
A62: SEÇMELİ DERS | B62: 3 | C62: ='Ders Değerlendirme'!E62/30 -> 0 | D62: =ABS(B62-C62) -> 3
A63: KANITA DAYALI HEMŞİRELİK | B63: 3 | C63: ='Ders Değerlendirme'!E63/30 -> 2.8333333 | D63: =ABS(B63-C63) -> 0.16666667
A64: ERGEN SAĞLIĞI | B64: 3 | C64: ='Ders Değerlendirme'!E64/30 -> 2.9216667 | D64: =ABS(B64-C64) -> 0.078333333
A65: ÇOCUK ACİL VE YOĞUN BAKIM | B65: 3 | C65: ='Ders Değerlendirme'!E65/30 -> 2.8003333 | D65: =ABS(B65-C65) -> 0.19966667
A66: YENİDOĞAN VE HASTALIKLARI | B66: 3 | C66: ='Ders Değerlendirme'!E66/30 -> 2.8826667 | D66: =ABS(B66-C66) -> 0.11733333
A67: HEMŞİRELİK MESLEK UYGULAMALARI I | B67: 32 | C67: ='Ders Değerlendirme'!E67/30 -> 22.433333 | D67: =ABS(B67-C67) -> 9.5666667
A68: HEMŞİRELİK MESLEK UYGULAMALARI II | B68: 32 | C68: ='Ders Değerlendirme'!E68/30 -> 24.089 | D68: =ABS(B68-C68) -> 7.911
